BEGIN:VCALENDAR
VERSION:2.0
PRODID:-//The Rhythm Room - ECPv6.15.18//NONSGML v1.0//EN
CALSCALE:GREGORIAN
METHOD:PUBLISH
X-WR-CALNAME:The Rhythm Room
X-ORIGINAL-URL:https://therhythmroomdancestudio.com
X-WR-CALDESC:Events for The Rhythm Room
REFRESH-INTERVAL;VALUE=DURATION:PT1H
X-Robots-Tag:noindex
X-PUBLISHED-TTL:PT1H
BEGIN:VTIMEZONE
TZID:America/Chicago
BEGIN:DAYLIGHT
TZOFFSETFROM:-0600
TZOFFSETTO:-0500
TZNAME:CDT
DTSTART:20210314T080000
END:DAYLIGHT
BEGIN:STANDARD
TZOFFSETFROM:-0500
TZOFFSETTO:-0600
TZNAME:CST
DTSTART:20211107T070000
END:STANDARD
BEGIN:DAYLIGHT
TZOFFSETFROM:-0600
TZOFFSETTO:-0500
TZNAME:CDT
DTSTART:20220313T080000
END:DAYLIGHT
BEGIN:STANDARD
TZOFFSETFROM:-0500
TZOFFSETTO:-0600
TZNAME:CST
DTSTART:20221106T070000
END:STANDARD
BEGIN:DAYLIGHT
TZOFFSETFROM:-0600
TZOFFSETTO:-0500
TZNAME:CDT
DTSTART:20230312T080000
END:DAYLIGHT
BEGIN:STANDARD
TZOFFSETFROM:-0500
TZOFFSETTO:-0600
TZNAME:CST
DTSTART:20231105T070000
END:STANDARD
END:VTIMEZONE
BEGIN:VEVENT
DTSTART;TZID=America/Chicago:20220619T170000
DTEND;TZID=America/Chicago:20220619T180000
DTSTAMP:20260420T205201
CREATED:20220427T182637Z
LAST-MODIFIED:20220725T205134Z
UID:10003362-1655658000-1655661600@therhythmroomdancestudio.com
SUMMARY:Intermediate Balboa
DESCRIPTION:Take you Balboa to the next level with the Intermediate Balboa class on Sundays at 5pm at Sons of Hermann Hall.
URL:https://therhythmroomdancestudio.com/calendar/intermediate-balboa/2022-06-19/
LOCATION:Sons of Hermann Hall\, 3414 Elm Street\, Dallas\, TX\, 75226\, United States
CATEGORIES:Swing Dance Class
ORGANIZER;CN="The Rhythm Room":MAILTO:dance@therhythmroom.net
END:VEVENT
BEGIN:VEVENT
DTSTART;TZID=America/Chicago:20220619T160000
DTEND;TZID=America/Chicago:20220619T170000
DTSTAMP:20260420T205201
CREATED:20220613T171204Z
LAST-MODIFIED:20220725T204224Z
UID:10003385-1655654400-1655658000@therhythmroomdancestudio.com
SUMMARY:Beginning Balboa
DESCRIPTION:Balboa is a fun and fast-paced Swing Era dance that makes dancing to fast songs easy. \nClasses meet once a week for an hour and run in 4-week series. \nSundays at 4pm \nLocation:\nSons of Hermann Hall\n3414 Elm Street\, Dallas\, TX 75226
URL:https://therhythmroomdancestudio.com/calendar/beginning-balboa/2022-06-19/
LOCATION:Sons of Hermann Hall\, 3414 Elm Street\, Dallas\, TX\, 75226\, United States
CATEGORIES:Balboa Dance Class,Swing Dance Class
ATTACH;FMTTYPE=image/png:https://therhythmroomdancestudio.com/wp-content/learn-to-dance/2022/01/shutterstock_1852549912.png
ORGANIZER;CN="The Rhythm Room":MAILTO:dance@therhythmroom.net
END:VEVENT
BEGIN:VEVENT
DTSTART;TZID=America/Chicago:20220619T133000
DTEND;TZID=America/Chicago:20220619T160000
DTSTAMP:20260420T205201
CREATED:20220526T233245Z
LAST-MODIFIED:20220610T224725Z
UID:10003384-1655645400-1655654400@therhythmroomdancestudio.com
SUMMARY:Father's Day Concert and Dance
DESCRIPTION:Celebrate Father’s Day with an afternoon of live Jazz with\nThe Andrew Griffith Quartet!\n1:30-4pm\nSunday\, June 19\, 2022\nSons of Hermann Hall\, 3414 Elm St.\, Dallas\, TX 75226\n$20 iper person\, $10 for students.
URL:https://therhythmroomdancestudio.com/calendar/fathers-day-concert-and-dance/
LOCATION:Sons of Hermann Hall\, 3414 Elm Street\, Dallas\, TX\, 75226\, United States
CATEGORIES:Dance Event
ATTACH;FMTTYPE=image/png:https://therhythmroomdancestudio.com/wp-content/learn-to-dance/2022/05/Fathers-Day-2.png
ORGANIZER;CN="The Rhythm Room":MAILTO:dance@therhythmroom.net
END:VEVENT
BEGIN:VEVENT
DTSTART;TZID=America/Chicago:20220615T200000
DTEND;TZID=America/Chicago:20220615T235900
DTSTAMP:20260420T205201
CREATED:20220208T195601Z
LAST-MODIFIED:20221108T203901Z
UID:10003301-1655323200-1655337540@therhythmroomdancestudio.com
SUMMARY:Swingin' at the Sons
DESCRIPTION:**Not a Rhythm Room Event**\nSwing dancing at Sons of Hermann Hall in Dallas\, Tx is a long tradition. Today swing dancing is a weekly event on Wednesdays with Beginning Lessons at 8pm and Dj’d music from 9 til midnight.\n\n\nCost is just $10 on non-band nights.\n\n\n3414 Elm St\nDallas\, Tx\n\n\nCome and join us.
URL:https://therhythmroomdancestudio.com/calendar/swingin-at-the-sons/2022-06-15/
LOCATION:Sons of Hermann Hall\, 3414 Elm Street\, Dallas\, TX\, 75226\, United States
CATEGORIES:Swing Dance
ATTACH;FMTTYPE=image/png:https://therhythmroomdancestudio.com/wp-content/learn-to-dance/2022/02/Swingin-Title-wide.png
END:VEVENT
BEGIN:VEVENT
DTSTART;TZID=America/Chicago:20220612T190000
DTEND;TZID=America/Chicago:20220612T220000
DTSTAMP:20260420T205201
CREATED:20211106T174119Z
LAST-MODIFIED:20220725T204021Z
UID:10003084-1655060400-1655071200@therhythmroomdancestudio.com
SUMMARY:Rhythm Remedy Dance Party
DESCRIPTION:Sunday evening dances at Sons of Hermann with a variety of formats. Prices range from $10 on DJ’d nights to $20 on Band nights ($10 for Students).
URL:https://therhythmroomdancestudio.com/calendar/rhythm-remedy-dance-party/2022-06-12/
LOCATION:Sons of Hermann Hall\, 3414 Elm Street\, Dallas\, TX\, 75226\, United States
CATEGORIES:Dance Event
ATTACH;FMTTYPE=image/png:https://therhythmroomdancestudio.com/wp-content/learn-to-dance/2021/10/Legs-Dancing.png
ORGANIZER;CN="The Rhythm Room":MAILTO:dance@therhythmroom.net
END:VEVENT
BEGIN:VEVENT
DTSTART;TZID=America/Chicago:20220612T180000
DTEND;TZID=America/Chicago:20220612T190000
DTSTAMP:20260420T205201
CREATED:20220518T180426Z
LAST-MODIFIED:20220518T180426Z
UID:10003373-1655056800-1655060400@therhythmroomdancestudio.com
SUMMARY:Solo Jazz Class
DESCRIPTION:Want to learn Shim-Sham\, Tranky-doo\, other solo jazz routines? \nAll levels of students are welcome to this Traditional Jazz Class. Ursula Hicks makes learning jazz routines easy and fun!  \nClasses will be held Sundays from 6:00pm – 7:00pm. \nLocation:\nSons of Hermann Hall\n3414 Elm Street\nDallas\, Tx \n 
URL:https://therhythmroomdancestudio.com/calendar/solo-jazz-class/2022-06-12/
LOCATION:Sons of Hermann Hall\, 3414 Elm Street\, Dallas\, TX\, 75226\, United States
CATEGORIES:Solo Jazz Class,Swing Dance Class
ATTACH;FMTTYPE=image/png:https://therhythmroomdancestudio.com/wp-content/learn-to-dance/2022/05/Solo-Jazz.png
ORGANIZER;CN="The Rhythm Room":MAILTO:dance@therhythmroom.net
END:VEVENT
BEGIN:VEVENT
DTSTART;TZID=America/Chicago:20220612T170000
DTEND;TZID=America/Chicago:20220612T180000
DTSTAMP:20260420T205201
CREATED:20220427T182637Z
LAST-MODIFIED:20220725T205134Z
UID:10003361-1655053200-1655056800@therhythmroomdancestudio.com
SUMMARY:Intermediate Balboa
DESCRIPTION:Take you Balboa to the next level with the Intermediate Balboa class on Sundays at 5pm at Sons of Hermann Hall.
URL:https://therhythmroomdancestudio.com/calendar/intermediate-balboa/2022-06-12/
LOCATION:Sons of Hermann Hall\, 3414 Elm Street\, Dallas\, TX\, 75226\, United States
CATEGORIES:Swing Dance Class
ORGANIZER;CN="The Rhythm Room":MAILTO:dance@therhythmroom.net
END:VEVENT
BEGIN:VEVENT
DTSTART;TZID=America/Chicago:20220608T200000
DTEND;TZID=America/Chicago:20220608T235900
DTSTAMP:20260420T205201
CREATED:20220208T195601Z
LAST-MODIFIED:20221108T203901Z
UID:10003300-1654718400-1654732740@therhythmroomdancestudio.com
SUMMARY:Swingin' at the Sons
DESCRIPTION:**Not a Rhythm Room Event**\nSwing dancing at Sons of Hermann Hall in Dallas\, Tx is a long tradition. Today swing dancing is a weekly event on Wednesdays with Beginning Lessons at 8pm and Dj’d music from 9 til midnight.\n\n\nCost is just $10 on non-band nights.\n\n\n3414 Elm St\nDallas\, Tx\n\n\nCome and join us.
URL:https://therhythmroomdancestudio.com/calendar/swingin-at-the-sons/2022-06-08/
LOCATION:Sons of Hermann Hall\, 3414 Elm Street\, Dallas\, TX\, 75226\, United States
CATEGORIES:Swing Dance
ATTACH;FMTTYPE=image/png:https://therhythmroomdancestudio.com/wp-content/learn-to-dance/2022/02/Swingin-Title-wide.png
END:VEVENT
BEGIN:VEVENT
DTSTART;TZID=America/Chicago:20220605T190000
DTEND;TZID=America/Chicago:20220605T220000
DTSTAMP:20260420T205201
CREATED:20211106T174119Z
LAST-MODIFIED:20220725T204021Z
UID:10003083-1654455600-1654466400@therhythmroomdancestudio.com
SUMMARY:Rhythm Remedy Dance Party
DESCRIPTION:Sunday evening dances at Sons of Hermann with a variety of formats. Prices range from $10 on DJ’d nights to $20 on Band nights ($10 for Students).
URL:https://therhythmroomdancestudio.com/calendar/rhythm-remedy-dance-party/2022-06-05/
LOCATION:Sons of Hermann Hall\, 3414 Elm Street\, Dallas\, TX\, 75226\, United States
CATEGORIES:Dance Event
ATTACH;FMTTYPE=image/png:https://therhythmroomdancestudio.com/wp-content/learn-to-dance/2021/10/Legs-Dancing.png
ORGANIZER;CN="The Rhythm Room":MAILTO:dance@therhythmroom.net
END:VEVENT
BEGIN:VEVENT
DTSTART;TZID=America/Chicago:20220605T180000
DTEND;TZID=America/Chicago:20220605T190000
DTSTAMP:20260420T205201
CREATED:20220518T180426Z
LAST-MODIFIED:20220518T180426Z
UID:10003372-1654452000-1654455600@therhythmroomdancestudio.com
SUMMARY:Solo Jazz Class
DESCRIPTION:Want to learn Shim-Sham\, Tranky-doo\, other solo jazz routines? \nAll levels of students are welcome to this Traditional Jazz Class. Ursula Hicks makes learning jazz routines easy and fun!  \nClasses will be held Sundays from 6:00pm – 7:00pm. \nLocation:\nSons of Hermann Hall\n3414 Elm Street\nDallas\, Tx \n 
URL:https://therhythmroomdancestudio.com/calendar/solo-jazz-class/2022-06-05/
LOCATION:Sons of Hermann Hall\, 3414 Elm Street\, Dallas\, TX\, 75226\, United States
CATEGORIES:Solo Jazz Class,Swing Dance Class
ATTACH;FMTTYPE=image/png:https://therhythmroomdancestudio.com/wp-content/learn-to-dance/2022/05/Solo-Jazz.png
ORGANIZER;CN="The Rhythm Room":MAILTO:dance@therhythmroom.net
END:VEVENT
BEGIN:VEVENT
DTSTART;TZID=America/Chicago:20220605T170000
DTEND;TZID=America/Chicago:20220605T180000
DTSTAMP:20260420T205201
CREATED:20220427T182637Z
LAST-MODIFIED:20220725T205134Z
UID:10003360-1654448400-1654452000@therhythmroomdancestudio.com
SUMMARY:Intermediate Balboa
DESCRIPTION:Take you Balboa to the next level with the Intermediate Balboa class on Sundays at 5pm at Sons of Hermann Hall.
URL:https://therhythmroomdancestudio.com/calendar/intermediate-balboa/2022-06-05/
LOCATION:Sons of Hermann Hall\, 3414 Elm Street\, Dallas\, TX\, 75226\, United States
CATEGORIES:Swing Dance Class
ORGANIZER;CN="The Rhythm Room":MAILTO:dance@therhythmroom.net
END:VEVENT
BEGIN:VEVENT
DTSTART;TZID=America/Chicago:20220601T200000
DTEND;TZID=America/Chicago:20220601T235900
DTSTAMP:20260420T205201
CREATED:20220208T195601Z
LAST-MODIFIED:20221108T203901Z
UID:10003299-1654113600-1654127940@therhythmroomdancestudio.com
SUMMARY:Swingin' at the Sons
DESCRIPTION:**Not a Rhythm Room Event**\nSwing dancing at Sons of Hermann Hall in Dallas\, Tx is a long tradition. Today swing dancing is a weekly event on Wednesdays with Beginning Lessons at 8pm and Dj’d music from 9 til midnight.\n\n\nCost is just $10 on non-band nights.\n\n\n3414 Elm St\nDallas\, Tx\n\n\nCome and join us.
URL:https://therhythmroomdancestudio.com/calendar/swingin-at-the-sons/2022-06-01/
LOCATION:Sons of Hermann Hall\, 3414 Elm Street\, Dallas\, TX\, 75226\, United States
CATEGORIES:Swing Dance
ATTACH;FMTTYPE=image/png:https://therhythmroomdancestudio.com/wp-content/learn-to-dance/2022/02/Swingin-Title-wide.png
END:VEVENT
BEGIN:VEVENT
DTSTART;TZID=America/Chicago:20220525T200000
DTEND;TZID=America/Chicago:20220525T235900
DTSTAMP:20260420T205201
CREATED:20220208T195601Z
LAST-MODIFIED:20221108T203901Z
UID:10003298-1653508800-1653523140@therhythmroomdancestudio.com
SUMMARY:Swingin' at the Sons
DESCRIPTION:**Not a Rhythm Room Event**\nSwing dancing at Sons of Hermann Hall in Dallas\, Tx is a long tradition. Today swing dancing is a weekly event on Wednesdays with Beginning Lessons at 8pm and Dj’d music from 9 til midnight.\n\n\nCost is just $10 on non-band nights.\n\n\n3414 Elm St\nDallas\, Tx\n\n\nCome and join us.
URL:https://therhythmroomdancestudio.com/calendar/swingin-at-the-sons/2022-05-25/
LOCATION:Sons of Hermann Hall\, 3414 Elm Street\, Dallas\, TX\, 75226\, United States
CATEGORIES:Swing Dance
ATTACH;FMTTYPE=image/png:https://therhythmroomdancestudio.com/wp-content/learn-to-dance/2022/02/Swingin-Title-wide.png
END:VEVENT
BEGIN:VEVENT
DTSTART;TZID=America/Chicago:20220522T190000
DTEND;TZID=America/Chicago:20220522T220000
DTSTAMP:20260420T205201
CREATED:20211106T174119Z
LAST-MODIFIED:20220725T204021Z
UID:10003082-1653246000-1653256800@therhythmroomdancestudio.com
SUMMARY:Rhythm Remedy Dance Party
DESCRIPTION:Sunday evening dances at Sons of Hermann with a variety of formats. Prices range from $10 on DJ’d nights to $20 on Band nights ($10 for Students).
URL:https://therhythmroomdancestudio.com/calendar/rhythm-remedy-dance-party/2022-05-22/
LOCATION:Sons of Hermann Hall\, 3414 Elm Street\, Dallas\, TX\, 75226\, United States
CATEGORIES:Dance Event
ATTACH;FMTTYPE=image/png:https://therhythmroomdancestudio.com/wp-content/learn-to-dance/2021/10/Legs-Dancing.png
ORGANIZER;CN="The Rhythm Room":MAILTO:dance@therhythmroom.net
END:VEVENT
BEGIN:VEVENT
DTSTART;TZID=America/Chicago:20220522T170000
DTEND;TZID=America/Chicago:20220522T180000
DTSTAMP:20260420T205201
CREATED:20220427T182637Z
LAST-MODIFIED:20220725T205134Z
UID:10003359-1653238800-1653242400@therhythmroomdancestudio.com
SUMMARY:Intermediate Balboa
DESCRIPTION:Take you Balboa to the next level with the Intermediate Balboa class on Sundays at 5pm at Sons of Hermann Hall.
URL:https://therhythmroomdancestudio.com/calendar/intermediate-balboa/2022-05-22/
LOCATION:Sons of Hermann Hall\, 3414 Elm Street\, Dallas\, TX\, 75226\, United States
CATEGORIES:Swing Dance Class
ORGANIZER;CN="The Rhythm Room":MAILTO:dance@therhythmroom.net
END:VEVENT
BEGIN:VEVENT
DTSTART;TZID=America/Chicago:20220518T200000
DTEND;TZID=America/Chicago:20220518T235900
DTSTAMP:20260420T205201
CREATED:20220208T195601Z
LAST-MODIFIED:20221108T203901Z
UID:10003297-1652904000-1652918340@therhythmroomdancestudio.com
SUMMARY:Swingin' at the Sons
DESCRIPTION:**Not a Rhythm Room Event**\nSwing dancing at Sons of Hermann Hall in Dallas\, Tx is a long tradition. Today swing dancing is a weekly event on Wednesdays with Beginning Lessons at 8pm and Dj’d music from 9 til midnight.\n\n\nCost is just $10 on non-band nights.\n\n\n3414 Elm St\nDallas\, Tx\n\n\nCome and join us.
URL:https://therhythmroomdancestudio.com/calendar/swingin-at-the-sons/2022-05-18/
LOCATION:Sons of Hermann Hall\, 3414 Elm Street\, Dallas\, TX\, 75226\, United States
CATEGORIES:Swing Dance
ATTACH;FMTTYPE=image/png:https://therhythmroomdancestudio.com/wp-content/learn-to-dance/2022/02/Swingin-Title-wide.png
END:VEVENT
BEGIN:VEVENT
DTSTART;TZID=America/Chicago:20220515T190000
DTEND;TZID=America/Chicago:20220515T220000
DTSTAMP:20260420T205201
CREATED:20211106T174119Z
LAST-MODIFIED:20220725T204021Z
UID:10003081-1652641200-1652652000@therhythmroomdancestudio.com
SUMMARY:Rhythm Remedy Dance Party
DESCRIPTION:Sunday evening dances at Sons of Hermann with a variety of formats. Prices range from $10 on DJ’d nights to $20 on Band nights ($10 for Students).
URL:https://therhythmroomdancestudio.com/calendar/rhythm-remedy-dance-party/2022-05-15/
LOCATION:Sons of Hermann Hall\, 3414 Elm Street\, Dallas\, TX\, 75226\, United States
CATEGORIES:Dance Event
ATTACH;FMTTYPE=image/png:https://therhythmroomdancestudio.com/wp-content/learn-to-dance/2021/10/Legs-Dancing.png
ORGANIZER;CN="The Rhythm Room":MAILTO:dance@therhythmroom.net
END:VEVENT
BEGIN:VEVENT
DTSTART;TZID=America/Chicago:20220515T170000
DTEND;TZID=America/Chicago:20220515T180000
DTSTAMP:20260420T205201
CREATED:20220427T182637Z
LAST-MODIFIED:20220725T205134Z
UID:10003358-1652634000-1652637600@therhythmroomdancestudio.com
SUMMARY:Intermediate Balboa
DESCRIPTION:Take you Balboa to the next level with the Intermediate Balboa class on Sundays at 5pm at Sons of Hermann Hall.
URL:https://therhythmroomdancestudio.com/calendar/intermediate-balboa/2022-05-15/
LOCATION:Sons of Hermann Hall\, 3414 Elm Street\, Dallas\, TX\, 75226\, United States
CATEGORIES:Swing Dance Class
ORGANIZER;CN="The Rhythm Room":MAILTO:dance@therhythmroom.net
END:VEVENT
BEGIN:VEVENT
DTSTART;TZID=America/Chicago:20220511T200000
DTEND;TZID=America/Chicago:20220511T235900
DTSTAMP:20260420T205201
CREATED:20220208T195601Z
LAST-MODIFIED:20221108T203901Z
UID:10003296-1652299200-1652313540@therhythmroomdancestudio.com
SUMMARY:Swingin' at the Sons
DESCRIPTION:**Not a Rhythm Room Event**\nSwing dancing at Sons of Hermann Hall in Dallas\, Tx is a long tradition. Today swing dancing is a weekly event on Wednesdays with Beginning Lessons at 8pm and Dj’d music from 9 til midnight.\n\n\nCost is just $10 on non-band nights.\n\n\n3414 Elm St\nDallas\, Tx\n\n\nCome and join us.
URL:https://therhythmroomdancestudio.com/calendar/swingin-at-the-sons/2022-05-11/
LOCATION:Sons of Hermann Hall\, 3414 Elm Street\, Dallas\, TX\, 75226\, United States
CATEGORIES:Swing Dance
ATTACH;FMTTYPE=image/png:https://therhythmroomdancestudio.com/wp-content/learn-to-dance/2022/02/Swingin-Title-wide.png
END:VEVENT
BEGIN:VEVENT
DTSTART;TZID=America/Chicago:20220508T190000
DTEND;TZID=America/Chicago:20220508T220000
DTSTAMP:20260420T205201
CREATED:20211106T174119Z
LAST-MODIFIED:20220725T204021Z
UID:10003080-1652036400-1652047200@therhythmroomdancestudio.com
SUMMARY:Rhythm Remedy Dance Party
DESCRIPTION:Sunday evening dances at Sons of Hermann with a variety of formats. Prices range from $10 on DJ’d nights to $20 on Band nights ($10 for Students).
URL:https://therhythmroomdancestudio.com/calendar/rhythm-remedy-dance-party/2022-05-08/
LOCATION:Sons of Hermann Hall\, 3414 Elm Street\, Dallas\, TX\, 75226\, United States
CATEGORIES:Dance Event
ATTACH;FMTTYPE=image/png:https://therhythmroomdancestudio.com/wp-content/learn-to-dance/2021/10/Legs-Dancing.png
ORGANIZER;CN="The Rhythm Room":MAILTO:dance@therhythmroom.net
END:VEVENT
BEGIN:VEVENT
DTSTART;TZID=America/Chicago:20220508T170000
DTEND;TZID=America/Chicago:20220508T180000
DTSTAMP:20260420T205201
CREATED:20220427T182637Z
LAST-MODIFIED:20220725T205134Z
UID:10003357-1652029200-1652032800@therhythmroomdancestudio.com
SUMMARY:Intermediate Balboa
DESCRIPTION:Take you Balboa to the next level with the Intermediate Balboa class on Sundays at 5pm at Sons of Hermann Hall.
URL:https://therhythmroomdancestudio.com/calendar/intermediate-balboa/2022-05-08/
LOCATION:Sons of Hermann Hall\, 3414 Elm Street\, Dallas\, TX\, 75226\, United States
CATEGORIES:Swing Dance Class
ORGANIZER;CN="The Rhythm Room":MAILTO:dance@therhythmroom.net
END:VEVENT
BEGIN:VEVENT
DTSTART;TZID=America/Chicago:20220504T200000
DTEND;TZID=America/Chicago:20220504T235900
DTSTAMP:20260420T205201
CREATED:20220208T195601Z
LAST-MODIFIED:20221108T203901Z
UID:10003295-1651694400-1651708740@therhythmroomdancestudio.com
SUMMARY:Swingin' at the Sons
DESCRIPTION:**Not a Rhythm Room Event**\nSwing dancing at Sons of Hermann Hall in Dallas\, Tx is a long tradition. Today swing dancing is a weekly event on Wednesdays with Beginning Lessons at 8pm and Dj’d music from 9 til midnight.\n\n\nCost is just $10 on non-band nights.\n\n\n3414 Elm St\nDallas\, Tx\n\n\nCome and join us.
URL:https://therhythmroomdancestudio.com/calendar/swingin-at-the-sons/2022-05-04/
LOCATION:Sons of Hermann Hall\, 3414 Elm Street\, Dallas\, TX\, 75226\, United States
CATEGORIES:Swing Dance
ATTACH;FMTTYPE=image/png:https://therhythmroomdancestudio.com/wp-content/learn-to-dance/2022/02/Swingin-Title-wide.png
END:VEVENT
BEGIN:VEVENT
DTSTART;TZID=America/Chicago:20220501T190000
DTEND;TZID=America/Chicago:20220501T220000
DTSTAMP:20260420T205201
CREATED:20211106T174119Z
LAST-MODIFIED:20220725T204021Z
UID:10003079-1651431600-1651442400@therhythmroomdancestudio.com
SUMMARY:Rhythm Remedy Dance Party
DESCRIPTION:Sunday evening dances at Sons of Hermann with a variety of formats. Prices range from $10 on DJ’d nights to $20 on Band nights ($10 for Students).
URL:https://therhythmroomdancestudio.com/calendar/rhythm-remedy-dance-party/2022-05-01/
LOCATION:Sons of Hermann Hall\, 3414 Elm Street\, Dallas\, TX\, 75226\, United States
CATEGORIES:Dance Event
ATTACH;FMTTYPE=image/png:https://therhythmroomdancestudio.com/wp-content/learn-to-dance/2021/10/Legs-Dancing.png
ORGANIZER;CN="The Rhythm Room":MAILTO:dance@therhythmroom.net
END:VEVENT
BEGIN:VEVENT
DTSTART;TZID=America/Chicago:20220501T170000
DTEND;TZID=America/Chicago:20220501T180000
DTSTAMP:20260420T205201
CREATED:20220427T182637Z
LAST-MODIFIED:20220725T205134Z
UID:10003356-1651424400-1651428000@therhythmroomdancestudio.com
SUMMARY:Intermediate Balboa
DESCRIPTION:Take you Balboa to the next level with the Intermediate Balboa class on Sundays at 5pm at Sons of Hermann Hall.
URL:https://therhythmroomdancestudio.com/calendar/intermediate-balboa/2022-05-01/
LOCATION:Sons of Hermann Hall\, 3414 Elm Street\, Dallas\, TX\, 75226\, United States
CATEGORIES:Swing Dance Class
ORGANIZER;CN="The Rhythm Room":MAILTO:dance@therhythmroom.net
END:VEVENT
BEGIN:VEVENT
DTSTART;TZID=America/Chicago:20220427T200000
DTEND;TZID=America/Chicago:20220427T235900
DTSTAMP:20260420T205201
CREATED:20220208T195601Z
LAST-MODIFIED:20221108T203901Z
UID:10003294-1651089600-1651103940@therhythmroomdancestudio.com
SUMMARY:Swingin' at the Sons
DESCRIPTION:**Not a Rhythm Room Event**\nSwing dancing at Sons of Hermann Hall in Dallas\, Tx is a long tradition. Today swing dancing is a weekly event on Wednesdays with Beginning Lessons at 8pm and Dj’d music from 9 til midnight.\n\n\nCost is just $10 on non-band nights.\n\n\n3414 Elm St\nDallas\, Tx\n\n\nCome and join us.
URL:https://therhythmroomdancestudio.com/calendar/swingin-at-the-sons/2022-04-27/
LOCATION:Sons of Hermann Hall\, 3414 Elm Street\, Dallas\, TX\, 75226\, United States
CATEGORIES:Swing Dance
ATTACH;FMTTYPE=image/png:https://therhythmroomdancestudio.com/wp-content/learn-to-dance/2022/02/Swingin-Title-wide.png
END:VEVENT
BEGIN:VEVENT
DTSTART;TZID=America/Chicago:20220424T160000
DTEND;TZID=America/Chicago:20220424T190000
DTSTAMP:20260420T205201
CREATED:20211106T175209Z
LAST-MODIFIED:20220420T203039Z
UID:10003099-1650816000-1650826800@therhythmroomdancestudio.com
SUMMARY:Rhythm Remedy Dance Classes
DESCRIPTION:RHYTHM REMEDY\nJoin us Sundays for our weekend dance classes at Sons of Hermann Hall in Deep Ellum! \nChoose from Balboa\, Salsa\, and Lindy Hop/Swing! \nSundays (4-week series)\n4 – 5 p.m. All Levels Balboa\n5 – 6 p.m. All Level Salsa\n6 – 7 p.m. Beginner Swing / Lindyhop\n$85 per person each 4-week series.\nOur group dance classes are a fun and easy way to gain confidence on the dance floor and a great way to meet people. Come on your own\, with a partner or friend. Wear comfortable clothes and smooth sole shoes so you can glide across the dance floor.
URL:https://therhythmroomdancestudio.com/calendar/rhythm-remedy-dance-classes-2022-04-24/
LOCATION:Sons of Hermann Hall\, 3414 Elm Street\, Dallas\, TX\, 75226\, United States
CATEGORIES:Ballroom Dance Class,Swing Dance Class
ATTACH;FMTTYPE=image/png:https://therhythmroomdancestudio.com/wp-content/learn-to-dance/2021/07/Balboa-Swing-Dance.png
ORGANIZER;CN="The Rhythm Room":MAILTO:dance@therhythmroom.net
END:VEVENT
BEGIN:VEVENT
DTSTART;TZID=America/Chicago:20220420T200000
DTEND;TZID=America/Chicago:20220420T235900
DTSTAMP:20260420T205201
CREATED:20220208T195601Z
LAST-MODIFIED:20221108T203901Z
UID:10003293-1650484800-1650499140@therhythmroomdancestudio.com
SUMMARY:Swingin' at the Sons
DESCRIPTION:**Not a Rhythm Room Event**\nSwing dancing at Sons of Hermann Hall in Dallas\, Tx is a long tradition. Today swing dancing is a weekly event on Wednesdays with Beginning Lessons at 8pm and Dj’d music from 9 til midnight.\n\n\nCost is just $10 on non-band nights.\n\n\n3414 Elm St\nDallas\, Tx\n\n\nCome and join us.
URL:https://therhythmroomdancestudio.com/calendar/swingin-at-the-sons/2022-04-20/
LOCATION:Sons of Hermann Hall\, 3414 Elm Street\, Dallas\, TX\, 75226\, United States
CATEGORIES:Swing Dance
ATTACH;FMTTYPE=image/png:https://therhythmroomdancestudio.com/wp-content/learn-to-dance/2022/02/Swingin-Title-wide.png
END:VEVENT
BEGIN:VEVENT
DTSTART;TZID=America/Chicago:20220413T200000
DTEND;TZID=America/Chicago:20220413T235900
DTSTAMP:20260420T205201
CREATED:20220208T195601Z
LAST-MODIFIED:20221108T203901Z
UID:10003292-1649880000-1649894340@therhythmroomdancestudio.com
SUMMARY:Swingin' at the Sons
DESCRIPTION:**Not a Rhythm Room Event**\nSwing dancing at Sons of Hermann Hall in Dallas\, Tx is a long tradition. Today swing dancing is a weekly event on Wednesdays with Beginning Lessons at 8pm and Dj’d music from 9 til midnight.\n\n\nCost is just $10 on non-band nights.\n\n\n3414 Elm St\nDallas\, Tx\n\n\nCome and join us.
URL:https://therhythmroomdancestudio.com/calendar/swingin-at-the-sons/2022-04-13/
LOCATION:Sons of Hermann Hall\, 3414 Elm Street\, Dallas\, TX\, 75226\, United States
CATEGORIES:Swing Dance
ATTACH;FMTTYPE=image/png:https://therhythmroomdancestudio.com/wp-content/learn-to-dance/2022/02/Swingin-Title-wide.png
END:VEVENT
BEGIN:VEVENT
DTSTART;TZID=America/Chicago:20220410T190000
DTEND;TZID=America/Chicago:20220410T220000
DTSTAMP:20260420T205201
CREATED:20211106T174119Z
LAST-MODIFIED:20220725T204021Z
UID:10003078-1649617200-1649628000@therhythmroomdancestudio.com
SUMMARY:Rhythm Remedy Dance Party
DESCRIPTION:Sunday evening dances at Sons of Hermann with a variety of formats. Prices range from $10 on DJ’d nights to $20 on Band nights ($10 for Students).
URL:https://therhythmroomdancestudio.com/calendar/rhythm-remedy-dance-party/2022-04-10/
LOCATION:Sons of Hermann Hall\, 3414 Elm Street\, Dallas\, TX\, 75226\, United States
CATEGORIES:Dance Event
ATTACH;FMTTYPE=image/png:https://therhythmroomdancestudio.com/wp-content/learn-to-dance/2021/10/Legs-Dancing.png
ORGANIZER;CN="The Rhythm Room":MAILTO:dance@therhythmroom.net
END:VEVENT
BEGIN:VEVENT
DTSTART;TZID=America/Chicago:20220406T200000
DTEND;TZID=America/Chicago:20220406T235900
DTSTAMP:20260420T205201
CREATED:20220208T195601Z
LAST-MODIFIED:20221108T203901Z
UID:10003291-1649275200-1649289540@therhythmroomdancestudio.com
SUMMARY:Swingin' at the Sons
DESCRIPTION:**Not a Rhythm Room Event**\nSwing dancing at Sons of Hermann Hall in Dallas\, Tx is a long tradition. Today swing dancing is a weekly event on Wednesdays with Beginning Lessons at 8pm and Dj’d music from 9 til midnight.\n\n\nCost is just $10 on non-band nights.\n\n\n3414 Elm St\nDallas\, Tx\n\n\nCome and join us.
URL:https://therhythmroomdancestudio.com/calendar/swingin-at-the-sons/2022-04-06/
LOCATION:Sons of Hermann Hall\, 3414 Elm Street\, Dallas\, TX\, 75226\, United States
CATEGORIES:Swing Dance
ATTACH;FMTTYPE=image/png:https://therhythmroomdancestudio.com/wp-content/learn-to-dance/2022/02/Swingin-Title-wide.png
END:VEVENT
END:VCALENDAR