BEGIN:VCALENDAR
VERSION:2.0
PRODID:-//The Rhythm Room - ECPv6.15.18//NONSGML v1.0//EN
CALSCALE:GREGORIAN
METHOD:PUBLISH
X-WR-CALNAME:The Rhythm Room
X-ORIGINAL-URL:https://therhythmroomdancestudio.com
X-WR-CALDESC:Events for The Rhythm Room
REFRESH-INTERVAL;VALUE=DURATION:PT1H
X-Robots-Tag:noindex
X-PUBLISHED-TTL:PT1H
BEGIN:VTIMEZONE
TZID:America/Chicago
BEGIN:DAYLIGHT
TZOFFSETFROM:-0600
TZOFFSETTO:-0500
TZNAME:CDT
DTSTART:20240310T080000
END:DAYLIGHT
BEGIN:STANDARD
TZOFFSETFROM:-0500
TZOFFSETTO:-0600
TZNAME:CST
DTSTART:20241103T070000
END:STANDARD
BEGIN:DAYLIGHT
TZOFFSETFROM:-0600
TZOFFSETTO:-0500
TZNAME:CDT
DTSTART:20250309T080000
END:DAYLIGHT
BEGIN:STANDARD
TZOFFSETFROM:-0500
TZOFFSETTO:-0600
TZNAME:CST
DTSTART:20251102T070000
END:STANDARD
BEGIN:DAYLIGHT
TZOFFSETFROM:-0600
TZOFFSETTO:-0500
TZNAME:CDT
DTSTART:20260308T080000
END:DAYLIGHT
BEGIN:STANDARD
TZOFFSETFROM:-0500
TZOFFSETTO:-0600
TZNAME:CST
DTSTART:20261101T070000
END:STANDARD
END:VTIMEZONE
BEGIN:VEVENT
DTSTART;TZID=America/Chicago:20251005T180000
DTEND;TZID=America/Chicago:20251005T190000
DTSTAMP:20260423T142711
CREATED:20250908T221658Z
LAST-MODIFIED:20250908T221658Z
UID:10007761-1759687200-1759690800@therhythmroomdancestudio.com
SUMMARY:Thriller! Choreography Class
DESCRIPTION:Join The Rhythm Room’s adult Jazz dance class to learn Michael Jackson’s “Thriller” music video!\nMichael Jackson’s Thriller (the Original)\nSundays\nOct 5\, 12\, 19 at 6pm – 7pm
URL:https://therhythmroomdancestudio.com/calendar/thriller-choreography-class/2025-10-05/
LOCATION:The Rhythm Room\, 2714 1/2 Greenville Ave\, Dallas\, TX\, 75206\, United States
CATEGORIES:Thriller
ORGANIZER;CN="The Rhythm Room":MAILTO:dance@therhythmroom.net
END:VEVENT
BEGIN:VEVENT
DTSTART;TZID=America/Chicago:20251012T180000
DTEND;TZID=America/Chicago:20251012T190000
DTSTAMP:20260423T142711
CREATED:20250908T221658Z
LAST-MODIFIED:20250908T221658Z
UID:10007762-1760292000-1760295600@therhythmroomdancestudio.com
SUMMARY:Thriller! Choreography Class
DESCRIPTION:Join The Rhythm Room’s adult Jazz dance class to learn Michael Jackson’s “Thriller” music video!\nMichael Jackson’s Thriller (the Original)\nSundays\nOct 5\, 12\, 19 at 6pm – 7pm
URL:https://therhythmroomdancestudio.com/calendar/thriller-choreography-class/2025-10-12/
LOCATION:The Rhythm Room\, 2714 1/2 Greenville Ave\, Dallas\, TX\, 75206\, United States
CATEGORIES:Thriller
ORGANIZER;CN="The Rhythm Room":MAILTO:dance@therhythmroom.net
END:VEVENT
BEGIN:VEVENT
DTSTART;TZID=America/Chicago:20251019T180000
DTEND;TZID=America/Chicago:20251019T190000
DTSTAMP:20260423T142711
CREATED:20250908T221658Z
LAST-MODIFIED:20250908T221658Z
UID:10007763-1760896800-1760900400@therhythmroomdancestudio.com
SUMMARY:Thriller! Choreography Class
DESCRIPTION:Join The Rhythm Room’s adult Jazz dance class to learn Michael Jackson’s “Thriller” music video!\nMichael Jackson’s Thriller (the Original)\nSundays\nOct 5\, 12\, 19 at 6pm – 7pm
URL:https://therhythmroomdancestudio.com/calendar/thriller-choreography-class/2025-10-19/
LOCATION:The Rhythm Room\, 2714 1/2 Greenville Ave\, Dallas\, TX\, 75206\, United States
CATEGORIES:Thriller
ORGANIZER;CN="The Rhythm Room":MAILTO:dance@therhythmroom.net
END:VEVENT
END:VCALENDAR