BEGIN:VCALENDAR
VERSION:2.0
PRODID:-//The Rhythm Room - ECPv6.15.18//NONSGML v1.0//EN
CALSCALE:GREGORIAN
METHOD:PUBLISH
X-ORIGINAL-URL:https://therhythmroomdancestudio.com
X-WR-CALDESC:Events for The Rhythm Room
REFRESH-INTERVAL;VALUE=DURATION:PT1H
X-Robots-Tag:noindex
X-PUBLISHED-TTL:PT1H
BEGIN:VTIMEZONE
TZID:America/Chicago
BEGIN:DAYLIGHT
TZOFFSETFROM:-0600
TZOFFSETTO:-0500
TZNAME:CDT
DTSTART:20240310T080000
END:DAYLIGHT
BEGIN:STANDARD
TZOFFSETFROM:-0500
TZOFFSETTO:-0600
TZNAME:CST
DTSTART:20241103T070000
END:STANDARD
BEGIN:DAYLIGHT
TZOFFSETFROM:-0600
TZOFFSETTO:-0500
TZNAME:CDT
DTSTART:20250309T080000
END:DAYLIGHT
BEGIN:STANDARD
TZOFFSETFROM:-0500
TZOFFSETTO:-0600
TZNAME:CST
DTSTART:20251102T070000
END:STANDARD
BEGIN:DAYLIGHT
TZOFFSETFROM:-0600
TZOFFSETTO:-0500
TZNAME:CDT
DTSTART:20260308T080000
END:DAYLIGHT
BEGIN:STANDARD
TZOFFSETFROM:-0500
TZOFFSETTO:-0600
TZNAME:CST
DTSTART:20261101T070000
END:STANDARD
END:VTIMEZONE
BEGIN:VEVENT
DTSTART;TZID=America/Chicago:20250328T200000
DTEND;TZID=America/Chicago:20250330T210000
DTSTAMP:20260425T065729
CREATED:20250109T182621Z
LAST-MODIFIED:20250109T182621Z
UID:10007450-1743192000-1743368400@therhythmroomdancestudio.com
SUMMARY:Spring Fling 2025
DESCRIPTION:Spring Fling Dance Workshop\nBenefitting Sons of Hermann Hall\nMarch 28-30\, 2025\nJoin us for a weekend full of classes\,\nfeaturing international instructors\, Laura Keat & Jeremy Otth\,\nand Dallas’ own dancer extraordinaire\, Ramiro Gonzalez! \nWeekend includes 3 nights of dancing\, 2 days of classes\, live music\, and a Spaghetti dinner! \nEarly Bird Special\nOnly $125 for the entire weekend!\nTo register\, CLICK HERE!
URL:https://therhythmroomdancestudio.com/calendar/spring-fling-2025/
LOCATION:Sons of Hermann Hall\, 3414 Elm Street\, Dallas\, TX\, 75226\, United States
CATEGORIES:Balboa Dance Class,Collegiate Shag Workshop,Dance Event,Dance Workshop,Swing Dance,Swing Dance Class
ATTACH;FMTTYPE=image/jpeg:https://therhythmroomdancestudio.com/wp-content/learn-to-dance/2024/10/JeremyandLaura.jpg
ORGANIZER;CN="The Rhythm Room":MAILTO:dance@therhythmroom.net
END:VEVENT
BEGIN:VEVENT
DTSTART;TZID=America/Chicago:20250330T170000
DTEND;TZID=America/Chicago:20250330T180000
DTSTAMP:20260425T065729
CREATED:20241216T224824Z
LAST-MODIFIED:20260124T211349Z
UID:10007437-1743354000-1743357600@therhythmroomdancestudio.com
SUMMARY:Sunday All Level Swing Workshop
DESCRIPTION:The Sunday Socials just got a whole lot better. How? With a 1-hour all level swing workshop! \nEach month a different one-hour swing dance workshop will be presented. \n5-6pm Intermediate Lindy Hop \nThe cost is $10\, and includes the Swing Social from 6pm-8pm! \nTo purchase online\, CLICK HERE!
URL:https://therhythmroomdancestudio.com/calendar/sunday-all-level-swing-workshop/2025-03-30/
LOCATION:The Rhythm Room\, 2714 1/2 Greenville Ave\, Dallas\, TX\, 75206\, United States
CATEGORIES:Dance Workshop,Swing Dance,Swing Dance Class
ATTACH;FMTTYPE=image/jpeg:https://therhythmroomdancestudio.com/wp-content/learn-to-dance/2021/07/cropped-The-Studio-Social.jpeg
ORGANIZER;CN="The Rhythm Room":MAILTO:dance@therhythmroom.net
END:VEVENT
BEGIN:VEVENT
DTSTART;TZID=America/Chicago:20250330T180000
DTEND;TZID=America/Chicago:20250330T200000
DTSTAMP:20260425T065729
CREATED:20240117T200026Z
LAST-MODIFIED:20260125T214733Z
UID:10006213-1743357600-1743364800@therhythmroomdancestudio.com
SUMMARY:Swing Dance Social at The Rhythm Room
DESCRIPTION:The Sunday Socials just got a whole lot better. How? With a 1-hour all level swing workshop! \nEach month a different one-hour swing dance workshop will be presented. \nThe cost is $10\, and includes the 5-6pm Beginner Lindy Hop Workshop \nSwing Social from 6pm-8pm! \nTo purchase online\, CLICK HERE!
URL:https://therhythmroomdancestudio.com/calendar/swing-dance-social-at-the-rhythm-room/2025-03-30/
LOCATION:TX
CATEGORIES:Dance Event,Swing Dance
ATTACH;FMTTYPE=image/jpeg:https://therhythmroomdancestudio.com/wp-content/learn-to-dance/2021/07/cropped-The-Studio-Social.jpeg
ORGANIZER;CN="The Rhythm Room":MAILTO:dance@therhythmroom.net
END:VEVENT
END:VCALENDAR