BEGIN:VCALENDAR
VERSION:2.0
PRODID:-//The Rhythm Room - ECPv6.15.18//NONSGML v1.0//EN
CALSCALE:GREGORIAN
METHOD:PUBLISH
X-WR-CALNAME:The Rhythm Room
X-ORIGINAL-URL:https://therhythmroomdancestudio.com
X-WR-CALDESC:Events for The Rhythm Room
REFRESH-INTERVAL;VALUE=DURATION:PT1H
X-Robots-Tag:noindex
X-PUBLISHED-TTL:PT1H
BEGIN:VTIMEZONE
TZID:America/Chicago
BEGIN:DAYLIGHT
TZOFFSETFROM:-0600
TZOFFSETTO:-0500
TZNAME:CDT
DTSTART:20260308T080000
END:DAYLIGHT
BEGIN:STANDARD
TZOFFSETFROM:-0500
TZOFFSETTO:-0600
TZNAME:CST
DTSTART:20261101T070000
END:STANDARD
BEGIN:DAYLIGHT
TZOFFSETFROM:-0600
TZOFFSETTO:-0500
TZNAME:CDT
DTSTART:20270314T080000
END:DAYLIGHT
BEGIN:STANDARD
TZOFFSETFROM:-0500
TZOFFSETTO:-0600
TZNAME:CST
DTSTART:20271107T070000
END:STANDARD
BEGIN:DAYLIGHT
TZOFFSETFROM:-0600
TZOFFSETTO:-0500
TZNAME:CDT
DTSTART:20280312T080000
END:DAYLIGHT
BEGIN:STANDARD
TZOFFSETFROM:-0500
TZOFFSETTO:-0600
TZNAME:CST
DTSTART:20281105T070000
END:STANDARD
BEGIN:DAYLIGHT
TZOFFSETFROM:-0600
TZOFFSETTO:-0500
TZNAME:CDT
DTSTART:20290311T080000
END:DAYLIGHT
BEGIN:STANDARD
TZOFFSETFROM:-0500
TZOFFSETTO:-0600
TZNAME:CST
DTSTART:20291104T070000
END:STANDARD
END:VTIMEZONE
BEGIN:VEVENT
DTSTART;TZID=America/Chicago:20271004T120000
DTEND;TZID=America/Chicago:20271004T130000
DTSTAMP:20260422T045032
CREATED:20260416T154722Z
LAST-MODIFIED:20260416T160429Z
UID:10010951-1822651200-1822654800@therhythmroomdancestudio.com
SUMMARY:Rhythm & Restore
DESCRIPTION:Ease into movement and out of stress with Rhythm & Restore—a feel-good\, low-impact class that blends light dance aerobics with calming stretch work. You’ll build gentle cardio and coordination through easy\, rhythmic movement\, then melt into restorative stretches that leave your body loose\, your mind clear\, and your energy lifted. \n  \nTo register\, click here!
URL:https://therhythmroomdancestudio.com/calendar/rhythm-restore/2027-10-04/
LOCATION:The Rhythm Room\, 2714 1/2 Greenville Ave\, Dallas\, TX\, 75206\, United States
CATEGORIES:Exercise & Stretch
ORGANIZER;CN="The Rhythm Room":MAILTO:dance@therhythmroom.net
END:VEVENT
BEGIN:VEVENT
DTSTART;TZID=America/Chicago:20271011T120000
DTEND;TZID=America/Chicago:20271011T130000
DTSTAMP:20260422T045032
CREATED:20260416T154722Z
LAST-MODIFIED:20260416T160429Z
UID:10010952-1823256000-1823259600@therhythmroomdancestudio.com
SUMMARY:Rhythm & Restore
DESCRIPTION:Ease into movement and out of stress with Rhythm & Restore—a feel-good\, low-impact class that blends light dance aerobics with calming stretch work. You’ll build gentle cardio and coordination through easy\, rhythmic movement\, then melt into restorative stretches that leave your body loose\, your mind clear\, and your energy lifted. \n  \nTo register\, click here!
URL:https://therhythmroomdancestudio.com/calendar/rhythm-restore/2027-10-11/
LOCATION:The Rhythm Room\, 2714 1/2 Greenville Ave\, Dallas\, TX\, 75206\, United States
CATEGORIES:Exercise & Stretch
ORGANIZER;CN="The Rhythm Room":MAILTO:dance@therhythmroom.net
END:VEVENT
BEGIN:VEVENT
DTSTART;TZID=America/Chicago:20271018T120000
DTEND;TZID=America/Chicago:20271018T130000
DTSTAMP:20260422T045032
CREATED:20260416T154722Z
LAST-MODIFIED:20260416T160429Z
UID:10010953-1823860800-1823864400@therhythmroomdancestudio.com
SUMMARY:Rhythm & Restore
DESCRIPTION:Ease into movement and out of stress with Rhythm & Restore—a feel-good\, low-impact class that blends light dance aerobics with calming stretch work. You’ll build gentle cardio and coordination through easy\, rhythmic movement\, then melt into restorative stretches that leave your body loose\, your mind clear\, and your energy lifted. \n  \nTo register\, click here!
URL:https://therhythmroomdancestudio.com/calendar/rhythm-restore/2027-10-18/
LOCATION:The Rhythm Room\, 2714 1/2 Greenville Ave\, Dallas\, TX\, 75206\, United States
CATEGORIES:Exercise & Stretch
ORGANIZER;CN="The Rhythm Room":MAILTO:dance@therhythmroom.net
END:VEVENT
BEGIN:VEVENT
DTSTART;TZID=America/Chicago:20271025T120000
DTEND;TZID=America/Chicago:20271025T130000
DTSTAMP:20260422T045032
CREATED:20260416T154722Z
LAST-MODIFIED:20260416T160429Z
UID:10010954-1824465600-1824469200@therhythmroomdancestudio.com
SUMMARY:Rhythm & Restore
DESCRIPTION:Ease into movement and out of stress with Rhythm & Restore—a feel-good\, low-impact class that blends light dance aerobics with calming stretch work. You’ll build gentle cardio and coordination through easy\, rhythmic movement\, then melt into restorative stretches that leave your body loose\, your mind clear\, and your energy lifted. \n  \nTo register\, click here!
URL:https://therhythmroomdancestudio.com/calendar/rhythm-restore/2027-10-25/
LOCATION:The Rhythm Room\, 2714 1/2 Greenville Ave\, Dallas\, TX\, 75206\, United States
CATEGORIES:Exercise & Stretch
ORGANIZER;CN="The Rhythm Room":MAILTO:dance@therhythmroom.net
END:VEVENT
BEGIN:VEVENT
DTSTART;TZID=America/Chicago:20271101T120000
DTEND;TZID=America/Chicago:20271101T130000
DTSTAMP:20260422T045032
CREATED:20260416T154722Z
LAST-MODIFIED:20260416T160429Z
UID:10010955-1825070400-1825074000@therhythmroomdancestudio.com
SUMMARY:Rhythm & Restore
DESCRIPTION:Ease into movement and out of stress with Rhythm & Restore—a feel-good\, low-impact class that blends light dance aerobics with calming stretch work. You’ll build gentle cardio and coordination through easy\, rhythmic movement\, then melt into restorative stretches that leave your body loose\, your mind clear\, and your energy lifted. \n  \nTo register\, click here!
URL:https://therhythmroomdancestudio.com/calendar/rhythm-restore/2027-11-01/
LOCATION:The Rhythm Room\, 2714 1/2 Greenville Ave\, Dallas\, TX\, 75206\, United States
CATEGORIES:Exercise & Stretch
ORGANIZER;CN="The Rhythm Room":MAILTO:dance@therhythmroom.net
END:VEVENT
BEGIN:VEVENT
DTSTART;TZID=America/Chicago:20271108T120000
DTEND;TZID=America/Chicago:20271108T130000
DTSTAMP:20260422T045032
CREATED:20260416T154722Z
LAST-MODIFIED:20260416T160429Z
UID:10010956-1825675200-1825678800@therhythmroomdancestudio.com
SUMMARY:Rhythm & Restore
DESCRIPTION:Ease into movement and out of stress with Rhythm & Restore—a feel-good\, low-impact class that blends light dance aerobics with calming stretch work. You’ll build gentle cardio and coordination through easy\, rhythmic movement\, then melt into restorative stretches that leave your body loose\, your mind clear\, and your energy lifted. \n  \nTo register\, click here!
URL:https://therhythmroomdancestudio.com/calendar/rhythm-restore/2027-11-08/
LOCATION:The Rhythm Room\, 2714 1/2 Greenville Ave\, Dallas\, TX\, 75206\, United States
CATEGORIES:Exercise & Stretch
ORGANIZER;CN="The Rhythm Room":MAILTO:dance@therhythmroom.net
END:VEVENT
BEGIN:VEVENT
DTSTART;TZID=America/Chicago:20271115T120000
DTEND;TZID=America/Chicago:20271115T130000
DTSTAMP:20260422T045032
CREATED:20260416T154722Z
LAST-MODIFIED:20260416T160429Z
UID:10010957-1826280000-1826283600@therhythmroomdancestudio.com
SUMMARY:Rhythm & Restore
DESCRIPTION:Ease into movement and out of stress with Rhythm & Restore—a feel-good\, low-impact class that blends light dance aerobics with calming stretch work. You’ll build gentle cardio and coordination through easy\, rhythmic movement\, then melt into restorative stretches that leave your body loose\, your mind clear\, and your energy lifted. \n  \nTo register\, click here!
URL:https://therhythmroomdancestudio.com/calendar/rhythm-restore/2027-11-15/
LOCATION:The Rhythm Room\, 2714 1/2 Greenville Ave\, Dallas\, TX\, 75206\, United States
CATEGORIES:Exercise & Stretch
ORGANIZER;CN="The Rhythm Room":MAILTO:dance@therhythmroom.net
END:VEVENT
BEGIN:VEVENT
DTSTART;TZID=America/Chicago:20271122T120000
DTEND;TZID=America/Chicago:20271122T130000
DTSTAMP:20260422T045032
CREATED:20260416T154722Z
LAST-MODIFIED:20260416T160429Z
UID:10010958-1826884800-1826888400@therhythmroomdancestudio.com
SUMMARY:Rhythm & Restore
DESCRIPTION:Ease into movement and out of stress with Rhythm & Restore—a feel-good\, low-impact class that blends light dance aerobics with calming stretch work. You’ll build gentle cardio and coordination through easy\, rhythmic movement\, then melt into restorative stretches that leave your body loose\, your mind clear\, and your energy lifted. \n  \nTo register\, click here!
URL:https://therhythmroomdancestudio.com/calendar/rhythm-restore/2027-11-22/
LOCATION:The Rhythm Room\, 2714 1/2 Greenville Ave\, Dallas\, TX\, 75206\, United States
CATEGORIES:Exercise & Stretch
ORGANIZER;CN="The Rhythm Room":MAILTO:dance@therhythmroom.net
END:VEVENT
BEGIN:VEVENT
DTSTART;TZID=America/Chicago:20271129T120000
DTEND;TZID=America/Chicago:20271129T130000
DTSTAMP:20260422T045032
CREATED:20260416T154722Z
LAST-MODIFIED:20260416T160429Z
UID:10010959-1827489600-1827493200@therhythmroomdancestudio.com
SUMMARY:Rhythm & Restore
DESCRIPTION:Ease into movement and out of stress with Rhythm & Restore—a feel-good\, low-impact class that blends light dance aerobics with calming stretch work. You’ll build gentle cardio and coordination through easy\, rhythmic movement\, then melt into restorative stretches that leave your body loose\, your mind clear\, and your energy lifted. \n  \nTo register\, click here!
URL:https://therhythmroomdancestudio.com/calendar/rhythm-restore/2027-11-29/
LOCATION:The Rhythm Room\, 2714 1/2 Greenville Ave\, Dallas\, TX\, 75206\, United States
CATEGORIES:Exercise & Stretch
ORGANIZER;CN="The Rhythm Room":MAILTO:dance@therhythmroom.net
END:VEVENT
BEGIN:VEVENT
DTSTART;TZID=America/Chicago:20271206T120000
DTEND;TZID=America/Chicago:20271206T130000
DTSTAMP:20260422T045032
CREATED:20260416T154722Z
LAST-MODIFIED:20260416T160429Z
UID:10010960-1828094400-1828098000@therhythmroomdancestudio.com
SUMMARY:Rhythm & Restore
DESCRIPTION:Ease into movement and out of stress with Rhythm & Restore—a feel-good\, low-impact class that blends light dance aerobics with calming stretch work. You’ll build gentle cardio and coordination through easy\, rhythmic movement\, then melt into restorative stretches that leave your body loose\, your mind clear\, and your energy lifted. \n  \nTo register\, click here!
URL:https://therhythmroomdancestudio.com/calendar/rhythm-restore/2027-12-06/
LOCATION:The Rhythm Room\, 2714 1/2 Greenville Ave\, Dallas\, TX\, 75206\, United States
CATEGORIES:Exercise & Stretch
ORGANIZER;CN="The Rhythm Room":MAILTO:dance@therhythmroom.net
END:VEVENT
BEGIN:VEVENT
DTSTART;TZID=America/Chicago:20271213T120000
DTEND;TZID=America/Chicago:20271213T130000
DTSTAMP:20260422T045032
CREATED:20260416T154722Z
LAST-MODIFIED:20260416T160429Z
UID:10010961-1828699200-1828702800@therhythmroomdancestudio.com
SUMMARY:Rhythm & Restore
DESCRIPTION:Ease into movement and out of stress with Rhythm & Restore—a feel-good\, low-impact class that blends light dance aerobics with calming stretch work. You’ll build gentle cardio and coordination through easy\, rhythmic movement\, then melt into restorative stretches that leave your body loose\, your mind clear\, and your energy lifted. \n  \nTo register\, click here!
URL:https://therhythmroomdancestudio.com/calendar/rhythm-restore/2027-12-13/
LOCATION:The Rhythm Room\, 2714 1/2 Greenville Ave\, Dallas\, TX\, 75206\, United States
CATEGORIES:Exercise & Stretch
ORGANIZER;CN="The Rhythm Room":MAILTO:dance@therhythmroom.net
END:VEVENT
BEGIN:VEVENT
DTSTART;TZID=America/Chicago:20271220T120000
DTEND;TZID=America/Chicago:20271220T130000
DTSTAMP:20260422T045032
CREATED:20260416T154722Z
LAST-MODIFIED:20260416T160429Z
UID:10010962-1829304000-1829307600@therhythmroomdancestudio.com
SUMMARY:Rhythm & Restore
DESCRIPTION:Ease into movement and out of stress with Rhythm & Restore—a feel-good\, low-impact class that blends light dance aerobics with calming stretch work. You’ll build gentle cardio and coordination through easy\, rhythmic movement\, then melt into restorative stretches that leave your body loose\, your mind clear\, and your energy lifted. \n  \nTo register\, click here!
URL:https://therhythmroomdancestudio.com/calendar/rhythm-restore/2027-12-20/
LOCATION:The Rhythm Room\, 2714 1/2 Greenville Ave\, Dallas\, TX\, 75206\, United States
CATEGORIES:Exercise & Stretch
ORGANIZER;CN="The Rhythm Room":MAILTO:dance@therhythmroom.net
END:VEVENT
BEGIN:VEVENT
DTSTART;TZID=America/Chicago:20271227T120000
DTEND;TZID=America/Chicago:20271227T130000
DTSTAMP:20260422T045032
CREATED:20260416T154722Z
LAST-MODIFIED:20260416T160429Z
UID:10010963-1829908800-1829912400@therhythmroomdancestudio.com
SUMMARY:Rhythm & Restore
DESCRIPTION:Ease into movement and out of stress with Rhythm & Restore—a feel-good\, low-impact class that blends light dance aerobics with calming stretch work. You’ll build gentle cardio and coordination through easy\, rhythmic movement\, then melt into restorative stretches that leave your body loose\, your mind clear\, and your energy lifted. \n  \nTo register\, click here!
URL:https://therhythmroomdancestudio.com/calendar/rhythm-restore/2027-12-27/
LOCATION:The Rhythm Room\, 2714 1/2 Greenville Ave\, Dallas\, TX\, 75206\, United States
CATEGORIES:Exercise & Stretch
ORGANIZER;CN="The Rhythm Room":MAILTO:dance@therhythmroom.net
END:VEVENT
BEGIN:VEVENT
DTSTART;TZID=America/Chicago:20280103T120000
DTEND;TZID=America/Chicago:20280103T130000
DTSTAMP:20260422T045032
CREATED:20260416T154722Z
LAST-MODIFIED:20260416T160429Z
UID:10010964-1830513600-1830517200@therhythmroomdancestudio.com
SUMMARY:Rhythm & Restore
DESCRIPTION:Ease into movement and out of stress with Rhythm & Restore—a feel-good\, low-impact class that blends light dance aerobics with calming stretch work. You’ll build gentle cardio and coordination through easy\, rhythmic movement\, then melt into restorative stretches that leave your body loose\, your mind clear\, and your energy lifted. \n  \nTo register\, click here!
URL:https://therhythmroomdancestudio.com/calendar/rhythm-restore/2028-01-03/
LOCATION:The Rhythm Room\, 2714 1/2 Greenville Ave\, Dallas\, TX\, 75206\, United States
CATEGORIES:Exercise & Stretch
ORGANIZER;CN="The Rhythm Room":MAILTO:dance@therhythmroom.net
END:VEVENT
BEGIN:VEVENT
DTSTART;TZID=America/Chicago:20280110T120000
DTEND;TZID=America/Chicago:20280110T130000
DTSTAMP:20260422T045032
CREATED:20260416T154722Z
LAST-MODIFIED:20260416T160429Z
UID:10010965-1831118400-1831122000@therhythmroomdancestudio.com
SUMMARY:Rhythm & Restore
DESCRIPTION:Ease into movement and out of stress with Rhythm & Restore—a feel-good\, low-impact class that blends light dance aerobics with calming stretch work. You’ll build gentle cardio and coordination through easy\, rhythmic movement\, then melt into restorative stretches that leave your body loose\, your mind clear\, and your energy lifted. \n  \nTo register\, click here!
URL:https://therhythmroomdancestudio.com/calendar/rhythm-restore/2028-01-10/
LOCATION:The Rhythm Room\, 2714 1/2 Greenville Ave\, Dallas\, TX\, 75206\, United States
CATEGORIES:Exercise & Stretch
ORGANIZER;CN="The Rhythm Room":MAILTO:dance@therhythmroom.net
END:VEVENT
BEGIN:VEVENT
DTSTART;TZID=America/Chicago:20280117T120000
DTEND;TZID=America/Chicago:20280117T130000
DTSTAMP:20260422T045032
CREATED:20260416T154722Z
LAST-MODIFIED:20260416T160429Z
UID:10010966-1831723200-1831726800@therhythmroomdancestudio.com
SUMMARY:Rhythm & Restore
DESCRIPTION:Ease into movement and out of stress with Rhythm & Restore—a feel-good\, low-impact class that blends light dance aerobics with calming stretch work. You’ll build gentle cardio and coordination through easy\, rhythmic movement\, then melt into restorative stretches that leave your body loose\, your mind clear\, and your energy lifted. \n  \nTo register\, click here!
URL:https://therhythmroomdancestudio.com/calendar/rhythm-restore/2028-01-17/
LOCATION:The Rhythm Room\, 2714 1/2 Greenville Ave\, Dallas\, TX\, 75206\, United States
CATEGORIES:Exercise & Stretch
ORGANIZER;CN="The Rhythm Room":MAILTO:dance@therhythmroom.net
END:VEVENT
BEGIN:VEVENT
DTSTART;TZID=America/Chicago:20280124T120000
DTEND;TZID=America/Chicago:20280124T130000
DTSTAMP:20260422T045032
CREATED:20260416T154722Z
LAST-MODIFIED:20260416T160429Z
UID:10010967-1832328000-1832331600@therhythmroomdancestudio.com
SUMMARY:Rhythm & Restore
DESCRIPTION:Ease into movement and out of stress with Rhythm & Restore—a feel-good\, low-impact class that blends light dance aerobics with calming stretch work. You’ll build gentle cardio and coordination through easy\, rhythmic movement\, then melt into restorative stretches that leave your body loose\, your mind clear\, and your energy lifted. \n  \nTo register\, click here!
URL:https://therhythmroomdancestudio.com/calendar/rhythm-restore/2028-01-24/
LOCATION:The Rhythm Room\, 2714 1/2 Greenville Ave\, Dallas\, TX\, 75206\, United States
CATEGORIES:Exercise & Stretch
ORGANIZER;CN="The Rhythm Room":MAILTO:dance@therhythmroom.net
END:VEVENT
BEGIN:VEVENT
DTSTART;TZID=America/Chicago:20280131T120000
DTEND;TZID=America/Chicago:20280131T130000
DTSTAMP:20260422T045032
CREATED:20260416T154722Z
LAST-MODIFIED:20260416T160429Z
UID:10010968-1832932800-1832936400@therhythmroomdancestudio.com
SUMMARY:Rhythm & Restore
DESCRIPTION:Ease into movement and out of stress with Rhythm & Restore—a feel-good\, low-impact class that blends light dance aerobics with calming stretch work. You’ll build gentle cardio and coordination through easy\, rhythmic movement\, then melt into restorative stretches that leave your body loose\, your mind clear\, and your energy lifted. \n  \nTo register\, click here!
URL:https://therhythmroomdancestudio.com/calendar/rhythm-restore/2028-01-31/
LOCATION:The Rhythm Room\, 2714 1/2 Greenville Ave\, Dallas\, TX\, 75206\, United States
CATEGORIES:Exercise & Stretch
ORGANIZER;CN="The Rhythm Room":MAILTO:dance@therhythmroom.net
END:VEVENT
BEGIN:VEVENT
DTSTART;TZID=America/Chicago:20280207T120000
DTEND;TZID=America/Chicago:20280207T130000
DTSTAMP:20260422T045032
CREATED:20260416T154722Z
LAST-MODIFIED:20260416T160429Z
UID:10010969-1833537600-1833541200@therhythmroomdancestudio.com
SUMMARY:Rhythm & Restore
DESCRIPTION:Ease into movement and out of stress with Rhythm & Restore—a feel-good\, low-impact class that blends light dance aerobics with calming stretch work. You’ll build gentle cardio and coordination through easy\, rhythmic movement\, then melt into restorative stretches that leave your body loose\, your mind clear\, and your energy lifted. \n  \nTo register\, click here!
URL:https://therhythmroomdancestudio.com/calendar/rhythm-restore/2028-02-07/
LOCATION:The Rhythm Room\, 2714 1/2 Greenville Ave\, Dallas\, TX\, 75206\, United States
CATEGORIES:Exercise & Stretch
ORGANIZER;CN="The Rhythm Room":MAILTO:dance@therhythmroom.net
END:VEVENT
BEGIN:VEVENT
DTSTART;TZID=America/Chicago:20280214T120000
DTEND;TZID=America/Chicago:20280214T130000
DTSTAMP:20260422T045032
CREATED:20260416T154722Z
LAST-MODIFIED:20260416T160429Z
UID:10010970-1834142400-1834146000@therhythmroomdancestudio.com
SUMMARY:Rhythm & Restore
DESCRIPTION:Ease into movement and out of stress with Rhythm & Restore—a feel-good\, low-impact class that blends light dance aerobics with calming stretch work. You’ll build gentle cardio and coordination through easy\, rhythmic movement\, then melt into restorative stretches that leave your body loose\, your mind clear\, and your energy lifted. \n  \nTo register\, click here!
URL:https://therhythmroomdancestudio.com/calendar/rhythm-restore/2028-02-14/
LOCATION:The Rhythm Room\, 2714 1/2 Greenville Ave\, Dallas\, TX\, 75206\, United States
CATEGORIES:Exercise & Stretch
ORGANIZER;CN="The Rhythm Room":MAILTO:dance@therhythmroom.net
END:VEVENT
BEGIN:VEVENT
DTSTART;TZID=America/Chicago:20280221T120000
DTEND;TZID=America/Chicago:20280221T130000
DTSTAMP:20260422T045032
CREATED:20260416T154722Z
LAST-MODIFIED:20260416T160429Z
UID:10010971-1834747200-1834750800@therhythmroomdancestudio.com
SUMMARY:Rhythm & Restore
DESCRIPTION:Ease into movement and out of stress with Rhythm & Restore—a feel-good\, low-impact class that blends light dance aerobics with calming stretch work. You’ll build gentle cardio and coordination through easy\, rhythmic movement\, then melt into restorative stretches that leave your body loose\, your mind clear\, and your energy lifted. \n  \nTo register\, click here!
URL:https://therhythmroomdancestudio.com/calendar/rhythm-restore/2028-02-21/
LOCATION:The Rhythm Room\, 2714 1/2 Greenville Ave\, Dallas\, TX\, 75206\, United States
CATEGORIES:Exercise & Stretch
ORGANIZER;CN="The Rhythm Room":MAILTO:dance@therhythmroom.net
END:VEVENT
BEGIN:VEVENT
DTSTART;TZID=America/Chicago:20280228T120000
DTEND;TZID=America/Chicago:20280228T130000
DTSTAMP:20260422T045032
CREATED:20260416T154722Z
LAST-MODIFIED:20260416T160429Z
UID:10010972-1835352000-1835355600@therhythmroomdancestudio.com
SUMMARY:Rhythm & Restore
DESCRIPTION:Ease into movement and out of stress with Rhythm & Restore—a feel-good\, low-impact class that blends light dance aerobics with calming stretch work. You’ll build gentle cardio and coordination through easy\, rhythmic movement\, then melt into restorative stretches that leave your body loose\, your mind clear\, and your energy lifted. \n  \nTo register\, click here!
URL:https://therhythmroomdancestudio.com/calendar/rhythm-restore/2028-02-28/
LOCATION:The Rhythm Room\, 2714 1/2 Greenville Ave\, Dallas\, TX\, 75206\, United States
CATEGORIES:Exercise & Stretch
ORGANIZER;CN="The Rhythm Room":MAILTO:dance@therhythmroom.net
END:VEVENT
BEGIN:VEVENT
DTSTART;TZID=America/Chicago:20280306T120000
DTEND;TZID=America/Chicago:20280306T130000
DTSTAMP:20260422T045032
CREATED:20260416T154722Z
LAST-MODIFIED:20260416T160429Z
UID:10010973-1835956800-1835960400@therhythmroomdancestudio.com
SUMMARY:Rhythm & Restore
DESCRIPTION:Ease into movement and out of stress with Rhythm & Restore—a feel-good\, low-impact class that blends light dance aerobics with calming stretch work. You’ll build gentle cardio and coordination through easy\, rhythmic movement\, then melt into restorative stretches that leave your body loose\, your mind clear\, and your energy lifted. \n  \nTo register\, click here!
URL:https://therhythmroomdancestudio.com/calendar/rhythm-restore/2028-03-06/
LOCATION:The Rhythm Room\, 2714 1/2 Greenville Ave\, Dallas\, TX\, 75206\, United States
CATEGORIES:Exercise & Stretch
ORGANIZER;CN="The Rhythm Room":MAILTO:dance@therhythmroom.net
END:VEVENT
BEGIN:VEVENT
DTSTART;TZID=America/Chicago:20280313T120000
DTEND;TZID=America/Chicago:20280313T130000
DTSTAMP:20260422T045033
CREATED:20260416T154722Z
LAST-MODIFIED:20260416T160429Z
UID:10010974-1836561600-1836565200@therhythmroomdancestudio.com
SUMMARY:Rhythm & Restore
DESCRIPTION:Ease into movement and out of stress with Rhythm & Restore—a feel-good\, low-impact class that blends light dance aerobics with calming stretch work. You’ll build gentle cardio and coordination through easy\, rhythmic movement\, then melt into restorative stretches that leave your body loose\, your mind clear\, and your energy lifted. \n  \nTo register\, click here!
URL:https://therhythmroomdancestudio.com/calendar/rhythm-restore/2028-03-13/
LOCATION:The Rhythm Room\, 2714 1/2 Greenville Ave\, Dallas\, TX\, 75206\, United States
CATEGORIES:Exercise & Stretch
ORGANIZER;CN="The Rhythm Room":MAILTO:dance@therhythmroom.net
END:VEVENT
BEGIN:VEVENT
DTSTART;TZID=America/Chicago:20280320T120000
DTEND;TZID=America/Chicago:20280320T130000
DTSTAMP:20260422T045033
CREATED:20260416T154722Z
LAST-MODIFIED:20260416T160429Z
UID:10010975-1837166400-1837170000@therhythmroomdancestudio.com
SUMMARY:Rhythm & Restore
DESCRIPTION:Ease into movement and out of stress with Rhythm & Restore—a feel-good\, low-impact class that blends light dance aerobics with calming stretch work. You’ll build gentle cardio and coordination through easy\, rhythmic movement\, then melt into restorative stretches that leave your body loose\, your mind clear\, and your energy lifted. \n  \nTo register\, click here!
URL:https://therhythmroomdancestudio.com/calendar/rhythm-restore/2028-03-20/
LOCATION:The Rhythm Room\, 2714 1/2 Greenville Ave\, Dallas\, TX\, 75206\, United States
CATEGORIES:Exercise & Stretch
ORGANIZER;CN="The Rhythm Room":MAILTO:dance@therhythmroom.net
END:VEVENT
BEGIN:VEVENT
DTSTART;TZID=America/Chicago:20280327T120000
DTEND;TZID=America/Chicago:20280327T130000
DTSTAMP:20260422T045033
CREATED:20260416T154722Z
LAST-MODIFIED:20260416T160429Z
UID:10010976-1837771200-1837774800@therhythmroomdancestudio.com
SUMMARY:Rhythm & Restore
DESCRIPTION:Ease into movement and out of stress with Rhythm & Restore—a feel-good\, low-impact class that blends light dance aerobics with calming stretch work. You’ll build gentle cardio and coordination through easy\, rhythmic movement\, then melt into restorative stretches that leave your body loose\, your mind clear\, and your energy lifted. \n  \nTo register\, click here!
URL:https://therhythmroomdancestudio.com/calendar/rhythm-restore/2028-03-27/
LOCATION:The Rhythm Room\, 2714 1/2 Greenville Ave\, Dallas\, TX\, 75206\, United States
CATEGORIES:Exercise & Stretch
ORGANIZER;CN="The Rhythm Room":MAILTO:dance@therhythmroom.net
END:VEVENT
BEGIN:VEVENT
DTSTART;TZID=America/Chicago:20280403T120000
DTEND;TZID=America/Chicago:20280403T130000
DTSTAMP:20260422T045033
CREATED:20260416T154722Z
LAST-MODIFIED:20260416T160429Z
UID:10010977-1838376000-1838379600@therhythmroomdancestudio.com
SUMMARY:Rhythm & Restore
DESCRIPTION:Ease into movement and out of stress with Rhythm & Restore—a feel-good\, low-impact class that blends light dance aerobics with calming stretch work. You’ll build gentle cardio and coordination through easy\, rhythmic movement\, then melt into restorative stretches that leave your body loose\, your mind clear\, and your energy lifted. \n  \nTo register\, click here!
URL:https://therhythmroomdancestudio.com/calendar/rhythm-restore/2028-04-03/
LOCATION:The Rhythm Room\, 2714 1/2 Greenville Ave\, Dallas\, TX\, 75206\, United States
CATEGORIES:Exercise & Stretch
ORGANIZER;CN="The Rhythm Room":MAILTO:dance@therhythmroom.net
END:VEVENT
BEGIN:VEVENT
DTSTART;TZID=America/Chicago:20280410T120000
DTEND;TZID=America/Chicago:20280410T130000
DTSTAMP:20260422T045033
CREATED:20260416T154722Z
LAST-MODIFIED:20260416T160429Z
UID:10010978-1838980800-1838984400@therhythmroomdancestudio.com
SUMMARY:Rhythm & Restore
DESCRIPTION:Ease into movement and out of stress with Rhythm & Restore—a feel-good\, low-impact class that blends light dance aerobics with calming stretch work. You’ll build gentle cardio and coordination through easy\, rhythmic movement\, then melt into restorative stretches that leave your body loose\, your mind clear\, and your energy lifted. \n  \nTo register\, click here!
URL:https://therhythmroomdancestudio.com/calendar/rhythm-restore/2028-04-10/
LOCATION:The Rhythm Room\, 2714 1/2 Greenville Ave\, Dallas\, TX\, 75206\, United States
CATEGORIES:Exercise & Stretch
ORGANIZER;CN="The Rhythm Room":MAILTO:dance@therhythmroom.net
END:VEVENT
BEGIN:VEVENT
DTSTART;TZID=America/Chicago:20280417T120000
DTEND;TZID=America/Chicago:20280417T130000
DTSTAMP:20260422T045033
CREATED:20260416T154722Z
LAST-MODIFIED:20260416T160429Z
UID:10010979-1839585600-1839589200@therhythmroomdancestudio.com
SUMMARY:Rhythm & Restore
DESCRIPTION:Ease into movement and out of stress with Rhythm & Restore—a feel-good\, low-impact class that blends light dance aerobics with calming stretch work. You’ll build gentle cardio and coordination through easy\, rhythmic movement\, then melt into restorative stretches that leave your body loose\, your mind clear\, and your energy lifted. \n  \nTo register\, click here!
URL:https://therhythmroomdancestudio.com/calendar/rhythm-restore/2028-04-17/
LOCATION:The Rhythm Room\, 2714 1/2 Greenville Ave\, Dallas\, TX\, 75206\, United States
CATEGORIES:Exercise & Stretch
ORGANIZER;CN="The Rhythm Room":MAILTO:dance@therhythmroom.net
END:VEVENT
BEGIN:VEVENT
DTSTART;TZID=America/Chicago:20280424T120000
DTEND;TZID=America/Chicago:20280424T130000
DTSTAMP:20260422T045033
CREATED:20260416T154722Z
LAST-MODIFIED:20260416T160429Z
UID:10010980-1840190400-1840194000@therhythmroomdancestudio.com
SUMMARY:Rhythm & Restore
DESCRIPTION:Ease into movement and out of stress with Rhythm & Restore—a feel-good\, low-impact class that blends light dance aerobics with calming stretch work. You’ll build gentle cardio and coordination through easy\, rhythmic movement\, then melt into restorative stretches that leave your body loose\, your mind clear\, and your energy lifted. \n  \nTo register\, click here!
URL:https://therhythmroomdancestudio.com/calendar/rhythm-restore/2028-04-24/
LOCATION:The Rhythm Room\, 2714 1/2 Greenville Ave\, Dallas\, TX\, 75206\, United States
CATEGORIES:Exercise & Stretch
ORGANIZER;CN="The Rhythm Room":MAILTO:dance@therhythmroom.net
END:VEVENT
END:VCALENDAR