BEGIN:VCALENDAR
VERSION:2.0
PRODID:-//The Rhythm Room - ECPv6.15.18//NONSGML v1.0//EN
CALSCALE:GREGORIAN
METHOD:PUBLISH
X-WR-CALNAME:The Rhythm Room
X-ORIGINAL-URL:https://therhythmroomdancestudio.com
X-WR-CALDESC:Events for The Rhythm Room
REFRESH-INTERVAL;VALUE=DURATION:PT1H
X-Robots-Tag:noindex
X-PUBLISHED-TTL:PT1H
BEGIN:VTIMEZONE
TZID:America/Chicago
BEGIN:DAYLIGHT
TZOFFSETFROM:-0600
TZOFFSETTO:-0500
TZNAME:CDT
DTSTART:20250309T080000
END:DAYLIGHT
BEGIN:STANDARD
TZOFFSETFROM:-0500
TZOFFSETTO:-0600
TZNAME:CST
DTSTART:20251102T070000
END:STANDARD
BEGIN:DAYLIGHT
TZOFFSETFROM:-0600
TZOFFSETTO:-0500
TZNAME:CDT
DTSTART:20260308T080000
END:DAYLIGHT
BEGIN:STANDARD
TZOFFSETFROM:-0500
TZOFFSETTO:-0600
TZNAME:CST
DTSTART:20261101T070000
END:STANDARD
BEGIN:DAYLIGHT
TZOFFSETFROM:-0600
TZOFFSETTO:-0500
TZNAME:CDT
DTSTART:20270314T080000
END:DAYLIGHT
BEGIN:STANDARD
TZOFFSETFROM:-0500
TZOFFSETTO:-0600
TZNAME:CST
DTSTART:20271107T070000
END:STANDARD
BEGIN:DAYLIGHT
TZOFFSETFROM:-0600
TZOFFSETTO:-0500
TZNAME:CDT
DTSTART:20280312T080000
END:DAYLIGHT
BEGIN:STANDARD
TZOFFSETFROM:-0500
TZOFFSETTO:-0600
TZNAME:CST
DTSTART:20281105T070000
END:STANDARD
END:VTIMEZONE
BEGIN:VEVENT
DTSTART;TZID=America/Chicago:20260720T120000
DTEND;TZID=America/Chicago:20260720T130000
DTSTAMP:20260420T233104
CREATED:20260416T154722Z
LAST-MODIFIED:20260416T160429Z
UID:10010889-1784548800-1784552400@therhythmroomdancestudio.com
SUMMARY:Rhythm & Restore
DESCRIPTION:Ease into movement and out of stress with Rhythm & Restore—a feel-good\, low-impact class that blends light dance aerobics with calming stretch work. You’ll build gentle cardio and coordination through easy\, rhythmic movement\, then melt into restorative stretches that leave your body loose\, your mind clear\, and your energy lifted. \n  \nTo register\, click here!
URL:https://therhythmroomdancestudio.com/calendar/rhythm-restore/2026-07-20/
LOCATION:The Rhythm Room\, 2714 1/2 Greenville Ave\, Dallas\, TX\, 75206\, United States
CATEGORIES:Exercise & Stretch
ORGANIZER;CN="The Rhythm Room":MAILTO:dance@therhythmroom.net
END:VEVENT
BEGIN:VEVENT
DTSTART;TZID=America/Chicago:20260727T120000
DTEND;TZID=America/Chicago:20260727T130000
DTSTAMP:20260420T233104
CREATED:20260416T154722Z
LAST-MODIFIED:20260416T160429Z
UID:10010890-1785153600-1785157200@therhythmroomdancestudio.com
SUMMARY:Rhythm & Restore
DESCRIPTION:Ease into movement and out of stress with Rhythm & Restore—a feel-good\, low-impact class that blends light dance aerobics with calming stretch work. You’ll build gentle cardio and coordination through easy\, rhythmic movement\, then melt into restorative stretches that leave your body loose\, your mind clear\, and your energy lifted. \n  \nTo register\, click here!
URL:https://therhythmroomdancestudio.com/calendar/rhythm-restore/2026-07-27/
LOCATION:The Rhythm Room\, 2714 1/2 Greenville Ave\, Dallas\, TX\, 75206\, United States
CATEGORIES:Exercise & Stretch
ORGANIZER;CN="The Rhythm Room":MAILTO:dance@therhythmroom.net
END:VEVENT
BEGIN:VEVENT
DTSTART;TZID=America/Chicago:20260803T120000
DTEND;TZID=America/Chicago:20260803T130000
DTSTAMP:20260420T233104
CREATED:20260416T154722Z
LAST-MODIFIED:20260416T160429Z
UID:10010891-1785758400-1785762000@therhythmroomdancestudio.com
SUMMARY:Rhythm & Restore
DESCRIPTION:Ease into movement and out of stress with Rhythm & Restore—a feel-good\, low-impact class that blends light dance aerobics with calming stretch work. You’ll build gentle cardio and coordination through easy\, rhythmic movement\, then melt into restorative stretches that leave your body loose\, your mind clear\, and your energy lifted. \n  \nTo register\, click here!
URL:https://therhythmroomdancestudio.com/calendar/rhythm-restore/2026-08-03/
LOCATION:The Rhythm Room\, 2714 1/2 Greenville Ave\, Dallas\, TX\, 75206\, United States
CATEGORIES:Exercise & Stretch
ORGANIZER;CN="The Rhythm Room":MAILTO:dance@therhythmroom.net
END:VEVENT
BEGIN:VEVENT
DTSTART;TZID=America/Chicago:20260810T120000
DTEND;TZID=America/Chicago:20260810T130000
DTSTAMP:20260420T233104
CREATED:20260416T154722Z
LAST-MODIFIED:20260416T160429Z
UID:10010892-1786363200-1786366800@therhythmroomdancestudio.com
SUMMARY:Rhythm & Restore
DESCRIPTION:Ease into movement and out of stress with Rhythm & Restore—a feel-good\, low-impact class that blends light dance aerobics with calming stretch work. You’ll build gentle cardio and coordination through easy\, rhythmic movement\, then melt into restorative stretches that leave your body loose\, your mind clear\, and your energy lifted. \n  \nTo register\, click here!
URL:https://therhythmroomdancestudio.com/calendar/rhythm-restore/2026-08-10/
LOCATION:The Rhythm Room\, 2714 1/2 Greenville Ave\, Dallas\, TX\, 75206\, United States
CATEGORIES:Exercise & Stretch
ORGANIZER;CN="The Rhythm Room":MAILTO:dance@therhythmroom.net
END:VEVENT
BEGIN:VEVENT
DTSTART;TZID=America/Chicago:20260817T120000
DTEND;TZID=America/Chicago:20260817T130000
DTSTAMP:20260420T233104
CREATED:20260416T154722Z
LAST-MODIFIED:20260416T160429Z
UID:10010893-1786968000-1786971600@therhythmroomdancestudio.com
SUMMARY:Rhythm & Restore
DESCRIPTION:Ease into movement and out of stress with Rhythm & Restore—a feel-good\, low-impact class that blends light dance aerobics with calming stretch work. You’ll build gentle cardio and coordination through easy\, rhythmic movement\, then melt into restorative stretches that leave your body loose\, your mind clear\, and your energy lifted. \n  \nTo register\, click here!
URL:https://therhythmroomdancestudio.com/calendar/rhythm-restore/2026-08-17/
LOCATION:The Rhythm Room\, 2714 1/2 Greenville Ave\, Dallas\, TX\, 75206\, United States
CATEGORIES:Exercise & Stretch
ORGANIZER;CN="The Rhythm Room":MAILTO:dance@therhythmroom.net
END:VEVENT
BEGIN:VEVENT
DTSTART;TZID=America/Chicago:20260824T120000
DTEND;TZID=America/Chicago:20260824T130000
DTSTAMP:20260420T233104
CREATED:20260416T154722Z
LAST-MODIFIED:20260416T160429Z
UID:10010894-1787572800-1787576400@therhythmroomdancestudio.com
SUMMARY:Rhythm & Restore
DESCRIPTION:Ease into movement and out of stress with Rhythm & Restore—a feel-good\, low-impact class that blends light dance aerobics with calming stretch work. You’ll build gentle cardio and coordination through easy\, rhythmic movement\, then melt into restorative stretches that leave your body loose\, your mind clear\, and your energy lifted. \n  \nTo register\, click here!
URL:https://therhythmroomdancestudio.com/calendar/rhythm-restore/2026-08-24/
LOCATION:The Rhythm Room\, 2714 1/2 Greenville Ave\, Dallas\, TX\, 75206\, United States
CATEGORIES:Exercise & Stretch
ORGANIZER;CN="The Rhythm Room":MAILTO:dance@therhythmroom.net
END:VEVENT
BEGIN:VEVENT
DTSTART;TZID=America/Chicago:20260831T120000
DTEND;TZID=America/Chicago:20260831T130000
DTSTAMP:20260420T233104
CREATED:20260416T154722Z
LAST-MODIFIED:20260416T160429Z
UID:10010895-1788177600-1788181200@therhythmroomdancestudio.com
SUMMARY:Rhythm & Restore
DESCRIPTION:Ease into movement and out of stress with Rhythm & Restore—a feel-good\, low-impact class that blends light dance aerobics with calming stretch work. You’ll build gentle cardio and coordination through easy\, rhythmic movement\, then melt into restorative stretches that leave your body loose\, your mind clear\, and your energy lifted. \n  \nTo register\, click here!
URL:https://therhythmroomdancestudio.com/calendar/rhythm-restore/2026-08-31/
LOCATION:The Rhythm Room\, 2714 1/2 Greenville Ave\, Dallas\, TX\, 75206\, United States
CATEGORIES:Exercise & Stretch
ORGANIZER;CN="The Rhythm Room":MAILTO:dance@therhythmroom.net
END:VEVENT
BEGIN:VEVENT
DTSTART;TZID=America/Chicago:20260914T120000
DTEND;TZID=America/Chicago:20260914T130000
DTSTAMP:20260420T233104
CREATED:20260416T154722Z
LAST-MODIFIED:20260416T160429Z
UID:10010896-1789387200-1789390800@therhythmroomdancestudio.com
SUMMARY:Rhythm & Restore
DESCRIPTION:Ease into movement and out of stress with Rhythm & Restore—a feel-good\, low-impact class that blends light dance aerobics with calming stretch work. You’ll build gentle cardio and coordination through easy\, rhythmic movement\, then melt into restorative stretches that leave your body loose\, your mind clear\, and your energy lifted. \n  \nTo register\, click here!
URL:https://therhythmroomdancestudio.com/calendar/rhythm-restore/2026-09-14/
LOCATION:The Rhythm Room\, 2714 1/2 Greenville Ave\, Dallas\, TX\, 75206\, United States
CATEGORIES:Exercise & Stretch
ORGANIZER;CN="The Rhythm Room":MAILTO:dance@therhythmroom.net
END:VEVENT
BEGIN:VEVENT
DTSTART;TZID=America/Chicago:20260921T120000
DTEND;TZID=America/Chicago:20260921T130000
DTSTAMP:20260420T233104
CREATED:20260416T154722Z
LAST-MODIFIED:20260416T160429Z
UID:10010897-1789992000-1789995600@therhythmroomdancestudio.com
SUMMARY:Rhythm & Restore
DESCRIPTION:Ease into movement and out of stress with Rhythm & Restore—a feel-good\, low-impact class that blends light dance aerobics with calming stretch work. You’ll build gentle cardio and coordination through easy\, rhythmic movement\, then melt into restorative stretches that leave your body loose\, your mind clear\, and your energy lifted. \n  \nTo register\, click here!
URL:https://therhythmroomdancestudio.com/calendar/rhythm-restore/2026-09-21/
LOCATION:The Rhythm Room\, 2714 1/2 Greenville Ave\, Dallas\, TX\, 75206\, United States
CATEGORIES:Exercise & Stretch
ORGANIZER;CN="The Rhythm Room":MAILTO:dance@therhythmroom.net
END:VEVENT
BEGIN:VEVENT
DTSTART;TZID=America/Chicago:20260928T120000
DTEND;TZID=America/Chicago:20260928T130000
DTSTAMP:20260420T233104
CREATED:20260416T154722Z
LAST-MODIFIED:20260416T160429Z
UID:10010898-1790596800-1790600400@therhythmroomdancestudio.com
SUMMARY:Rhythm & Restore
DESCRIPTION:Ease into movement and out of stress with Rhythm & Restore—a feel-good\, low-impact class that blends light dance aerobics with calming stretch work. You’ll build gentle cardio and coordination through easy\, rhythmic movement\, then melt into restorative stretches that leave your body loose\, your mind clear\, and your energy lifted. \n  \nTo register\, click here!
URL:https://therhythmroomdancestudio.com/calendar/rhythm-restore/2026-09-28/
LOCATION:The Rhythm Room\, 2714 1/2 Greenville Ave\, Dallas\, TX\, 75206\, United States
CATEGORIES:Exercise & Stretch
ORGANIZER;CN="The Rhythm Room":MAILTO:dance@therhythmroom.net
END:VEVENT
BEGIN:VEVENT
DTSTART;TZID=America/Chicago:20261005T120000
DTEND;TZID=America/Chicago:20261005T130000
DTSTAMP:20260420T233104
CREATED:20260416T154722Z
LAST-MODIFIED:20260416T160429Z
UID:10010899-1791201600-1791205200@therhythmroomdancestudio.com
SUMMARY:Rhythm & Restore
DESCRIPTION:Ease into movement and out of stress with Rhythm & Restore—a feel-good\, low-impact class that blends light dance aerobics with calming stretch work. You’ll build gentle cardio and coordination through easy\, rhythmic movement\, then melt into restorative stretches that leave your body loose\, your mind clear\, and your energy lifted. \n  \nTo register\, click here!
URL:https://therhythmroomdancestudio.com/calendar/rhythm-restore/2026-10-05/
LOCATION:The Rhythm Room\, 2714 1/2 Greenville Ave\, Dallas\, TX\, 75206\, United States
CATEGORIES:Exercise & Stretch
ORGANIZER;CN="The Rhythm Room":MAILTO:dance@therhythmroom.net
END:VEVENT
BEGIN:VEVENT
DTSTART;TZID=America/Chicago:20261012T120000
DTEND;TZID=America/Chicago:20261012T130000
DTSTAMP:20260420T233104
CREATED:20260416T154722Z
LAST-MODIFIED:20260416T160429Z
UID:10010900-1791806400-1791810000@therhythmroomdancestudio.com
SUMMARY:Rhythm & Restore
DESCRIPTION:Ease into movement and out of stress with Rhythm & Restore—a feel-good\, low-impact class that blends light dance aerobics with calming stretch work. You’ll build gentle cardio and coordination through easy\, rhythmic movement\, then melt into restorative stretches that leave your body loose\, your mind clear\, and your energy lifted. \n  \nTo register\, click here!
URL:https://therhythmroomdancestudio.com/calendar/rhythm-restore/2026-10-12/
LOCATION:The Rhythm Room\, 2714 1/2 Greenville Ave\, Dallas\, TX\, 75206\, United States
CATEGORIES:Exercise & Stretch
ORGANIZER;CN="The Rhythm Room":MAILTO:dance@therhythmroom.net
END:VEVENT
BEGIN:VEVENT
DTSTART;TZID=America/Chicago:20261019T120000
DTEND;TZID=America/Chicago:20261019T130000
DTSTAMP:20260420T233104
CREATED:20260416T154722Z
LAST-MODIFIED:20260416T160429Z
UID:10010901-1792411200-1792414800@therhythmroomdancestudio.com
SUMMARY:Rhythm & Restore
DESCRIPTION:Ease into movement and out of stress with Rhythm & Restore—a feel-good\, low-impact class that blends light dance aerobics with calming stretch work. You’ll build gentle cardio and coordination through easy\, rhythmic movement\, then melt into restorative stretches that leave your body loose\, your mind clear\, and your energy lifted. \n  \nTo register\, click here!
URL:https://therhythmroomdancestudio.com/calendar/rhythm-restore/2026-10-19/
LOCATION:The Rhythm Room\, 2714 1/2 Greenville Ave\, Dallas\, TX\, 75206\, United States
CATEGORIES:Exercise & Stretch
ORGANIZER;CN="The Rhythm Room":MAILTO:dance@therhythmroom.net
END:VEVENT
BEGIN:VEVENT
DTSTART;TZID=America/Chicago:20261026T120000
DTEND;TZID=America/Chicago:20261026T130000
DTSTAMP:20260420T233104
CREATED:20260416T154722Z
LAST-MODIFIED:20260416T160429Z
UID:10010902-1793016000-1793019600@therhythmroomdancestudio.com
SUMMARY:Rhythm & Restore
DESCRIPTION:Ease into movement and out of stress with Rhythm & Restore—a feel-good\, low-impact class that blends light dance aerobics with calming stretch work. You’ll build gentle cardio and coordination through easy\, rhythmic movement\, then melt into restorative stretches that leave your body loose\, your mind clear\, and your energy lifted. \n  \nTo register\, click here!
URL:https://therhythmroomdancestudio.com/calendar/rhythm-restore/2026-10-26/
LOCATION:The Rhythm Room\, 2714 1/2 Greenville Ave\, Dallas\, TX\, 75206\, United States
CATEGORIES:Exercise & Stretch
ORGANIZER;CN="The Rhythm Room":MAILTO:dance@therhythmroom.net
END:VEVENT
BEGIN:VEVENT
DTSTART;TZID=America/Chicago:20261102T120000
DTEND;TZID=America/Chicago:20261102T130000
DTSTAMP:20260420T233104
CREATED:20260416T154722Z
LAST-MODIFIED:20260416T160429Z
UID:10010903-1793620800-1793624400@therhythmroomdancestudio.com
SUMMARY:Rhythm & Restore
DESCRIPTION:Ease into movement and out of stress with Rhythm & Restore—a feel-good\, low-impact class that blends light dance aerobics with calming stretch work. You’ll build gentle cardio and coordination through easy\, rhythmic movement\, then melt into restorative stretches that leave your body loose\, your mind clear\, and your energy lifted. \n  \nTo register\, click here!
URL:https://therhythmroomdancestudio.com/calendar/rhythm-restore/2026-11-02/
LOCATION:The Rhythm Room\, 2714 1/2 Greenville Ave\, Dallas\, TX\, 75206\, United States
CATEGORIES:Exercise & Stretch
ORGANIZER;CN="The Rhythm Room":MAILTO:dance@therhythmroom.net
END:VEVENT
BEGIN:VEVENT
DTSTART;TZID=America/Chicago:20261109T120000
DTEND;TZID=America/Chicago:20261109T130000
DTSTAMP:20260420T233104
CREATED:20260416T154722Z
LAST-MODIFIED:20260416T160429Z
UID:10010904-1794225600-1794229200@therhythmroomdancestudio.com
SUMMARY:Rhythm & Restore
DESCRIPTION:Ease into movement and out of stress with Rhythm & Restore—a feel-good\, low-impact class that blends light dance aerobics with calming stretch work. You’ll build gentle cardio and coordination through easy\, rhythmic movement\, then melt into restorative stretches that leave your body loose\, your mind clear\, and your energy lifted. \n  \nTo register\, click here!
URL:https://therhythmroomdancestudio.com/calendar/rhythm-restore/2026-11-09/
LOCATION:The Rhythm Room\, 2714 1/2 Greenville Ave\, Dallas\, TX\, 75206\, United States
CATEGORIES:Exercise & Stretch
ORGANIZER;CN="The Rhythm Room":MAILTO:dance@therhythmroom.net
END:VEVENT
BEGIN:VEVENT
DTSTART;TZID=America/Chicago:20261116T120000
DTEND;TZID=America/Chicago:20261116T130000
DTSTAMP:20260420T233104
CREATED:20260416T154722Z
LAST-MODIFIED:20260416T160429Z
UID:10010905-1794830400-1794834000@therhythmroomdancestudio.com
SUMMARY:Rhythm & Restore
DESCRIPTION:Ease into movement and out of stress with Rhythm & Restore—a feel-good\, low-impact class that blends light dance aerobics with calming stretch work. You’ll build gentle cardio and coordination through easy\, rhythmic movement\, then melt into restorative stretches that leave your body loose\, your mind clear\, and your energy lifted. \n  \nTo register\, click here!
URL:https://therhythmroomdancestudio.com/calendar/rhythm-restore/2026-11-16/
LOCATION:The Rhythm Room\, 2714 1/2 Greenville Ave\, Dallas\, TX\, 75206\, United States
CATEGORIES:Exercise & Stretch
ORGANIZER;CN="The Rhythm Room":MAILTO:dance@therhythmroom.net
END:VEVENT
BEGIN:VEVENT
DTSTART;TZID=America/Chicago:20261123T120000
DTEND;TZID=America/Chicago:20261123T130000
DTSTAMP:20260420T233104
CREATED:20260416T154722Z
LAST-MODIFIED:20260416T160429Z
UID:10010906-1795435200-1795438800@therhythmroomdancestudio.com
SUMMARY:Rhythm & Restore
DESCRIPTION:Ease into movement and out of stress with Rhythm & Restore—a feel-good\, low-impact class that blends light dance aerobics with calming stretch work. You’ll build gentle cardio and coordination through easy\, rhythmic movement\, then melt into restorative stretches that leave your body loose\, your mind clear\, and your energy lifted. \n  \nTo register\, click here!
URL:https://therhythmroomdancestudio.com/calendar/rhythm-restore/2026-11-23/
LOCATION:The Rhythm Room\, 2714 1/2 Greenville Ave\, Dallas\, TX\, 75206\, United States
CATEGORIES:Exercise & Stretch
ORGANIZER;CN="The Rhythm Room":MAILTO:dance@therhythmroom.net
END:VEVENT
BEGIN:VEVENT
DTSTART;TZID=America/Chicago:20261130T120000
DTEND;TZID=America/Chicago:20261130T130000
DTSTAMP:20260420T233104
CREATED:20260416T154722Z
LAST-MODIFIED:20260416T160429Z
UID:10010907-1796040000-1796043600@therhythmroomdancestudio.com
SUMMARY:Rhythm & Restore
DESCRIPTION:Ease into movement and out of stress with Rhythm & Restore—a feel-good\, low-impact class that blends light dance aerobics with calming stretch work. You’ll build gentle cardio and coordination through easy\, rhythmic movement\, then melt into restorative stretches that leave your body loose\, your mind clear\, and your energy lifted. \n  \nTo register\, click here!
URL:https://therhythmroomdancestudio.com/calendar/rhythm-restore/2026-11-30/
LOCATION:The Rhythm Room\, 2714 1/2 Greenville Ave\, Dallas\, TX\, 75206\, United States
CATEGORIES:Exercise & Stretch
ORGANIZER;CN="The Rhythm Room":MAILTO:dance@therhythmroom.net
END:VEVENT
BEGIN:VEVENT
DTSTART;TZID=America/Chicago:20261207T120000
DTEND;TZID=America/Chicago:20261207T130000
DTSTAMP:20260420T233104
CREATED:20260416T154722Z
LAST-MODIFIED:20260416T160429Z
UID:10010908-1796644800-1796648400@therhythmroomdancestudio.com
SUMMARY:Rhythm & Restore
DESCRIPTION:Ease into movement and out of stress with Rhythm & Restore—a feel-good\, low-impact class that blends light dance aerobics with calming stretch work. You’ll build gentle cardio and coordination through easy\, rhythmic movement\, then melt into restorative stretches that leave your body loose\, your mind clear\, and your energy lifted. \n  \nTo register\, click here!
URL:https://therhythmroomdancestudio.com/calendar/rhythm-restore/2026-12-07/
LOCATION:The Rhythm Room\, 2714 1/2 Greenville Ave\, Dallas\, TX\, 75206\, United States
CATEGORIES:Exercise & Stretch
ORGANIZER;CN="The Rhythm Room":MAILTO:dance@therhythmroom.net
END:VEVENT
BEGIN:VEVENT
DTSTART;TZID=America/Chicago:20261214T120000
DTEND;TZID=America/Chicago:20261214T130000
DTSTAMP:20260420T233104
CREATED:20260416T154722Z
LAST-MODIFIED:20260416T160429Z
UID:10010909-1797249600-1797253200@therhythmroomdancestudio.com
SUMMARY:Rhythm & Restore
DESCRIPTION:Ease into movement and out of stress with Rhythm & Restore—a feel-good\, low-impact class that blends light dance aerobics with calming stretch work. You’ll build gentle cardio and coordination through easy\, rhythmic movement\, then melt into restorative stretches that leave your body loose\, your mind clear\, and your energy lifted. \n  \nTo register\, click here!
URL:https://therhythmroomdancestudio.com/calendar/rhythm-restore/2026-12-14/
LOCATION:The Rhythm Room\, 2714 1/2 Greenville Ave\, Dallas\, TX\, 75206\, United States
CATEGORIES:Exercise & Stretch
ORGANIZER;CN="The Rhythm Room":MAILTO:dance@therhythmroom.net
END:VEVENT
BEGIN:VEVENT
DTSTART;TZID=America/Chicago:20261221T120000
DTEND;TZID=America/Chicago:20261221T130000
DTSTAMP:20260420T233104
CREATED:20260416T154722Z
LAST-MODIFIED:20260416T160429Z
UID:10010910-1797854400-1797858000@therhythmroomdancestudio.com
SUMMARY:Rhythm & Restore
DESCRIPTION:Ease into movement and out of stress with Rhythm & Restore—a feel-good\, low-impact class that blends light dance aerobics with calming stretch work. You’ll build gentle cardio and coordination through easy\, rhythmic movement\, then melt into restorative stretches that leave your body loose\, your mind clear\, and your energy lifted. \n  \nTo register\, click here!
URL:https://therhythmroomdancestudio.com/calendar/rhythm-restore/2026-12-21/
LOCATION:The Rhythm Room\, 2714 1/2 Greenville Ave\, Dallas\, TX\, 75206\, United States
CATEGORIES:Exercise & Stretch
ORGANIZER;CN="The Rhythm Room":MAILTO:dance@therhythmroom.net
END:VEVENT
BEGIN:VEVENT
DTSTART;TZID=America/Chicago:20261228T120000
DTEND;TZID=America/Chicago:20261228T130000
DTSTAMP:20260420T233104
CREATED:20260416T154722Z
LAST-MODIFIED:20260416T160429Z
UID:10010911-1798459200-1798462800@therhythmroomdancestudio.com
SUMMARY:Rhythm & Restore
DESCRIPTION:Ease into movement and out of stress with Rhythm & Restore—a feel-good\, low-impact class that blends light dance aerobics with calming stretch work. You’ll build gentle cardio and coordination through easy\, rhythmic movement\, then melt into restorative stretches that leave your body loose\, your mind clear\, and your energy lifted. \n  \nTo register\, click here!
URL:https://therhythmroomdancestudio.com/calendar/rhythm-restore/2026-12-28/
LOCATION:The Rhythm Room\, 2714 1/2 Greenville Ave\, Dallas\, TX\, 75206\, United States
CATEGORIES:Exercise & Stretch
ORGANIZER;CN="The Rhythm Room":MAILTO:dance@therhythmroom.net
END:VEVENT
BEGIN:VEVENT
DTSTART;TZID=America/Chicago:20270104T120000
DTEND;TZID=America/Chicago:20270104T130000
DTSTAMP:20260420T233104
CREATED:20260416T154722Z
LAST-MODIFIED:20260416T160429Z
UID:10010912-1799064000-1799067600@therhythmroomdancestudio.com
SUMMARY:Rhythm & Restore
DESCRIPTION:Ease into movement and out of stress with Rhythm & Restore—a feel-good\, low-impact class that blends light dance aerobics with calming stretch work. You’ll build gentle cardio and coordination through easy\, rhythmic movement\, then melt into restorative stretches that leave your body loose\, your mind clear\, and your energy lifted. \n  \nTo register\, click here!
URL:https://therhythmroomdancestudio.com/calendar/rhythm-restore/2027-01-04/
LOCATION:The Rhythm Room\, 2714 1/2 Greenville Ave\, Dallas\, TX\, 75206\, United States
CATEGORIES:Exercise & Stretch
ORGANIZER;CN="The Rhythm Room":MAILTO:dance@therhythmroom.net
END:VEVENT
BEGIN:VEVENT
DTSTART;TZID=America/Chicago:20270111T120000
DTEND;TZID=America/Chicago:20270111T130000
DTSTAMP:20260420T233104
CREATED:20260416T154722Z
LAST-MODIFIED:20260416T160429Z
UID:10010913-1799668800-1799672400@therhythmroomdancestudio.com
SUMMARY:Rhythm & Restore
DESCRIPTION:Ease into movement and out of stress with Rhythm & Restore—a feel-good\, low-impact class that blends light dance aerobics with calming stretch work. You’ll build gentle cardio and coordination through easy\, rhythmic movement\, then melt into restorative stretches that leave your body loose\, your mind clear\, and your energy lifted. \n  \nTo register\, click here!
URL:https://therhythmroomdancestudio.com/calendar/rhythm-restore/2027-01-11/
LOCATION:The Rhythm Room\, 2714 1/2 Greenville Ave\, Dallas\, TX\, 75206\, United States
CATEGORIES:Exercise & Stretch
ORGANIZER;CN="The Rhythm Room":MAILTO:dance@therhythmroom.net
END:VEVENT
BEGIN:VEVENT
DTSTART;TZID=America/Chicago:20270118T120000
DTEND;TZID=America/Chicago:20270118T130000
DTSTAMP:20260420T233104
CREATED:20260416T154722Z
LAST-MODIFIED:20260416T160429Z
UID:10010914-1800273600-1800277200@therhythmroomdancestudio.com
SUMMARY:Rhythm & Restore
DESCRIPTION:Ease into movement and out of stress with Rhythm & Restore—a feel-good\, low-impact class that blends light dance aerobics with calming stretch work. You’ll build gentle cardio and coordination through easy\, rhythmic movement\, then melt into restorative stretches that leave your body loose\, your mind clear\, and your energy lifted. \n  \nTo register\, click here!
URL:https://therhythmroomdancestudio.com/calendar/rhythm-restore/2027-01-18/
LOCATION:The Rhythm Room\, 2714 1/2 Greenville Ave\, Dallas\, TX\, 75206\, United States
CATEGORIES:Exercise & Stretch
ORGANIZER;CN="The Rhythm Room":MAILTO:dance@therhythmroom.net
END:VEVENT
BEGIN:VEVENT
DTSTART;TZID=America/Chicago:20270125T120000
DTEND;TZID=America/Chicago:20270125T130000
DTSTAMP:20260420T233104
CREATED:20260416T154722Z
LAST-MODIFIED:20260416T160429Z
UID:10010915-1800878400-1800882000@therhythmroomdancestudio.com
SUMMARY:Rhythm & Restore
DESCRIPTION:Ease into movement and out of stress with Rhythm & Restore—a feel-good\, low-impact class that blends light dance aerobics with calming stretch work. You’ll build gentle cardio and coordination through easy\, rhythmic movement\, then melt into restorative stretches that leave your body loose\, your mind clear\, and your energy lifted. \n  \nTo register\, click here!
URL:https://therhythmroomdancestudio.com/calendar/rhythm-restore/2027-01-25/
LOCATION:The Rhythm Room\, 2714 1/2 Greenville Ave\, Dallas\, TX\, 75206\, United States
CATEGORIES:Exercise & Stretch
ORGANIZER;CN="The Rhythm Room":MAILTO:dance@therhythmroom.net
END:VEVENT
BEGIN:VEVENT
DTSTART;TZID=America/Chicago:20270201T120000
DTEND;TZID=America/Chicago:20270201T130000
DTSTAMP:20260420T233104
CREATED:20260416T154722Z
LAST-MODIFIED:20260416T160429Z
UID:10010916-1801483200-1801486800@therhythmroomdancestudio.com
SUMMARY:Rhythm & Restore
DESCRIPTION:Ease into movement and out of stress with Rhythm & Restore—a feel-good\, low-impact class that blends light dance aerobics with calming stretch work. You’ll build gentle cardio and coordination through easy\, rhythmic movement\, then melt into restorative stretches that leave your body loose\, your mind clear\, and your energy lifted. \n  \nTo register\, click here!
URL:https://therhythmroomdancestudio.com/calendar/rhythm-restore/2027-02-01/
LOCATION:The Rhythm Room\, 2714 1/2 Greenville Ave\, Dallas\, TX\, 75206\, United States
CATEGORIES:Exercise & Stretch
ORGANIZER;CN="The Rhythm Room":MAILTO:dance@therhythmroom.net
END:VEVENT
BEGIN:VEVENT
DTSTART;TZID=America/Chicago:20270208T120000
DTEND;TZID=America/Chicago:20270208T130000
DTSTAMP:20260420T233104
CREATED:20260416T154722Z
LAST-MODIFIED:20260416T160429Z
UID:10010917-1802088000-1802091600@therhythmroomdancestudio.com
SUMMARY:Rhythm & Restore
DESCRIPTION:Ease into movement and out of stress with Rhythm & Restore—a feel-good\, low-impact class that blends light dance aerobics with calming stretch work. You’ll build gentle cardio and coordination through easy\, rhythmic movement\, then melt into restorative stretches that leave your body loose\, your mind clear\, and your energy lifted. \n  \nTo register\, click here!
URL:https://therhythmroomdancestudio.com/calendar/rhythm-restore/2027-02-08/
LOCATION:The Rhythm Room\, 2714 1/2 Greenville Ave\, Dallas\, TX\, 75206\, United States
CATEGORIES:Exercise & Stretch
ORGANIZER;CN="The Rhythm Room":MAILTO:dance@therhythmroom.net
END:VEVENT
BEGIN:VEVENT
DTSTART;TZID=America/Chicago:20270215T120000
DTEND;TZID=America/Chicago:20270215T130000
DTSTAMP:20260420T233104
CREATED:20260416T154722Z
LAST-MODIFIED:20260416T160429Z
UID:10010918-1802692800-1802696400@therhythmroomdancestudio.com
SUMMARY:Rhythm & Restore
DESCRIPTION:Ease into movement and out of stress with Rhythm & Restore—a feel-good\, low-impact class that blends light dance aerobics with calming stretch work. You’ll build gentle cardio and coordination through easy\, rhythmic movement\, then melt into restorative stretches that leave your body loose\, your mind clear\, and your energy lifted. \n  \nTo register\, click here!
URL:https://therhythmroomdancestudio.com/calendar/rhythm-restore/2027-02-15/
LOCATION:The Rhythm Room\, 2714 1/2 Greenville Ave\, Dallas\, TX\, 75206\, United States
CATEGORIES:Exercise & Stretch
ORGANIZER;CN="The Rhythm Room":MAILTO:dance@therhythmroom.net
END:VEVENT
END:VCALENDAR