BEGIN:VCALENDAR
VERSION:2.0
PRODID:-//The Rhythm Room - ECPv6.15.18//NONSGML v1.0//EN
CALSCALE:GREGORIAN
METHOD:PUBLISH
X-ORIGINAL-URL:https://therhythmroomdancestudio.com
X-WR-CALDESC:Events for The Rhythm Room
REFRESH-INTERVAL;VALUE=DURATION:PT1H
X-Robots-Tag:noindex
X-PUBLISHED-TTL:PT1H
BEGIN:VTIMEZONE
TZID:America/Chicago
BEGIN:DAYLIGHT
TZOFFSETFROM:-0600
TZOFFSETTO:-0500
TZNAME:CDT
DTSTART:20270314T080000
END:DAYLIGHT
BEGIN:STANDARD
TZOFFSETFROM:-0500
TZOFFSETTO:-0600
TZNAME:CST
DTSTART:20271107T070000
END:STANDARD
BEGIN:DAYLIGHT
TZOFFSETFROM:-0600
TZOFFSETTO:-0500
TZNAME:CDT
DTSTART:20280312T080000
END:DAYLIGHT
BEGIN:STANDARD
TZOFFSETFROM:-0500
TZOFFSETTO:-0600
TZNAME:CST
DTSTART:20281105T070000
END:STANDARD
BEGIN:DAYLIGHT
TZOFFSETFROM:-0600
TZOFFSETTO:-0500
TZNAME:CDT
DTSTART:20290311T080000
END:DAYLIGHT
BEGIN:STANDARD
TZOFFSETFROM:-0500
TZOFFSETTO:-0600
TZNAME:CST
DTSTART:20291104T070000
END:STANDARD
BEGIN:DAYLIGHT
TZOFFSETFROM:-0600
TZOFFSETTO:-0500
TZNAME:CDT
DTSTART:20300310T080000
END:DAYLIGHT
BEGIN:STANDARD
TZOFFSETFROM:-0500
TZOFFSETTO:-0600
TZNAME:CST
DTSTART:20301103T070000
END:STANDARD
END:VTIMEZONE
BEGIN:VEVENT
DTSTART;TZID=America/Chicago:20280612T120000
DTEND;TZID=America/Chicago:20280612T130000
DTSTAMP:20260424T230348
CREATED:20260416T154722Z
LAST-MODIFIED:20260416T160429Z
UID:10010987-1844424000-1844427600@therhythmroomdancestudio.com
SUMMARY:Rhythm & Restore
DESCRIPTION:Ease into movement and out of stress with Rhythm & Restore—a feel-good\, low-impact class that blends light dance aerobics with calming stretch work. You’ll build gentle cardio and coordination through easy\, rhythmic movement\, then melt into restorative stretches that leave your body loose\, your mind clear\, and your energy lifted. \n  \nTo register\, click here!
URL:https://therhythmroomdancestudio.com/calendar/rhythm-restore/2028-06-12/
LOCATION:The Rhythm Room\, 2714 1/2 Greenville Ave\, Dallas\, TX\, 75206\, United States
CATEGORIES:Exercise & Stretch
ORGANIZER;CN="The Rhythm Room":MAILTO:dance@therhythmroom.net
END:VEVENT
BEGIN:VEVENT
DTSTART;TZID=America/Chicago:20280619T120000
DTEND;TZID=America/Chicago:20280619T130000
DTSTAMP:20260424T230348
CREATED:20260416T154722Z
LAST-MODIFIED:20260416T160429Z
UID:10010988-1845028800-1845032400@therhythmroomdancestudio.com
SUMMARY:Rhythm & Restore
DESCRIPTION:Ease into movement and out of stress with Rhythm & Restore—a feel-good\, low-impact class that blends light dance aerobics with calming stretch work. You’ll build gentle cardio and coordination through easy\, rhythmic movement\, then melt into restorative stretches that leave your body loose\, your mind clear\, and your energy lifted. \n  \nTo register\, click here!
URL:https://therhythmroomdancestudio.com/calendar/rhythm-restore/2028-06-19/
LOCATION:The Rhythm Room\, 2714 1/2 Greenville Ave\, Dallas\, TX\, 75206\, United States
CATEGORIES:Exercise & Stretch
ORGANIZER;CN="The Rhythm Room":MAILTO:dance@therhythmroom.net
END:VEVENT
BEGIN:VEVENT
DTSTART;TZID=America/Chicago:20280626T120000
DTEND;TZID=America/Chicago:20280626T130000
DTSTAMP:20260424T230348
CREATED:20260416T154722Z
LAST-MODIFIED:20260416T160429Z
UID:10010989-1845633600-1845637200@therhythmroomdancestudio.com
SUMMARY:Rhythm & Restore
DESCRIPTION:Ease into movement and out of stress with Rhythm & Restore—a feel-good\, low-impact class that blends light dance aerobics with calming stretch work. You’ll build gentle cardio and coordination through easy\, rhythmic movement\, then melt into restorative stretches that leave your body loose\, your mind clear\, and your energy lifted. \n  \nTo register\, click here!
URL:https://therhythmroomdancestudio.com/calendar/rhythm-restore/2028-06-26/
LOCATION:The Rhythm Room\, 2714 1/2 Greenville Ave\, Dallas\, TX\, 75206\, United States
CATEGORIES:Exercise & Stretch
ORGANIZER;CN="The Rhythm Room":MAILTO:dance@therhythmroom.net
END:VEVENT
BEGIN:VEVENT
DTSTART;TZID=America/Chicago:20280703T120000
DTEND;TZID=America/Chicago:20280703T130000
DTSTAMP:20260424T230348
CREATED:20260416T154722Z
LAST-MODIFIED:20260416T160429Z
UID:10010990-1846238400-1846242000@therhythmroomdancestudio.com
SUMMARY:Rhythm & Restore
DESCRIPTION:Ease into movement and out of stress with Rhythm & Restore—a feel-good\, low-impact class that blends light dance aerobics with calming stretch work. You’ll build gentle cardio and coordination through easy\, rhythmic movement\, then melt into restorative stretches that leave your body loose\, your mind clear\, and your energy lifted. \n  \nTo register\, click here!
URL:https://therhythmroomdancestudio.com/calendar/rhythm-restore/2028-07-03/
LOCATION:The Rhythm Room\, 2714 1/2 Greenville Ave\, Dallas\, TX\, 75206\, United States
CATEGORIES:Exercise & Stretch
ORGANIZER;CN="The Rhythm Room":MAILTO:dance@therhythmroom.net
END:VEVENT
BEGIN:VEVENT
DTSTART;TZID=America/Chicago:20280710T120000
DTEND;TZID=America/Chicago:20280710T130000
DTSTAMP:20260424T230348
CREATED:20260416T154722Z
LAST-MODIFIED:20260416T160429Z
UID:10010991-1846843200-1846846800@therhythmroomdancestudio.com
SUMMARY:Rhythm & Restore
DESCRIPTION:Ease into movement and out of stress with Rhythm & Restore—a feel-good\, low-impact class that blends light dance aerobics with calming stretch work. You’ll build gentle cardio and coordination through easy\, rhythmic movement\, then melt into restorative stretches that leave your body loose\, your mind clear\, and your energy lifted. \n  \nTo register\, click here!
URL:https://therhythmroomdancestudio.com/calendar/rhythm-restore/2028-07-10/
LOCATION:The Rhythm Room\, 2714 1/2 Greenville Ave\, Dallas\, TX\, 75206\, United States
CATEGORIES:Exercise & Stretch
ORGANIZER;CN="The Rhythm Room":MAILTO:dance@therhythmroom.net
END:VEVENT
BEGIN:VEVENT
DTSTART;TZID=America/Chicago:20280717T120000
DTEND;TZID=America/Chicago:20280717T130000
DTSTAMP:20260424T230348
CREATED:20260416T154722Z
LAST-MODIFIED:20260416T160429Z
UID:10010992-1847448000-1847451600@therhythmroomdancestudio.com
SUMMARY:Rhythm & Restore
DESCRIPTION:Ease into movement and out of stress with Rhythm & Restore—a feel-good\, low-impact class that blends light dance aerobics with calming stretch work. You’ll build gentle cardio and coordination through easy\, rhythmic movement\, then melt into restorative stretches that leave your body loose\, your mind clear\, and your energy lifted. \n  \nTo register\, click here!
URL:https://therhythmroomdancestudio.com/calendar/rhythm-restore/2028-07-17/
LOCATION:The Rhythm Room\, 2714 1/2 Greenville Ave\, Dallas\, TX\, 75206\, United States
CATEGORIES:Exercise & Stretch
ORGANIZER;CN="The Rhythm Room":MAILTO:dance@therhythmroom.net
END:VEVENT
BEGIN:VEVENT
DTSTART;TZID=America/Chicago:20280724T120000
DTEND;TZID=America/Chicago:20280724T130000
DTSTAMP:20260424T230348
CREATED:20260416T154722Z
LAST-MODIFIED:20260416T160429Z
UID:10010993-1848052800-1848056400@therhythmroomdancestudio.com
SUMMARY:Rhythm & Restore
DESCRIPTION:Ease into movement and out of stress with Rhythm & Restore—a feel-good\, low-impact class that blends light dance aerobics with calming stretch work. You’ll build gentle cardio and coordination through easy\, rhythmic movement\, then melt into restorative stretches that leave your body loose\, your mind clear\, and your energy lifted. \n  \nTo register\, click here!
URL:https://therhythmroomdancestudio.com/calendar/rhythm-restore/2028-07-24/
LOCATION:The Rhythm Room\, 2714 1/2 Greenville Ave\, Dallas\, TX\, 75206\, United States
CATEGORIES:Exercise & Stretch
ORGANIZER;CN="The Rhythm Room":MAILTO:dance@therhythmroom.net
END:VEVENT
BEGIN:VEVENT
DTSTART;TZID=America/Chicago:20280731T120000
DTEND;TZID=America/Chicago:20280731T130000
DTSTAMP:20260424T230348
CREATED:20260416T154722Z
LAST-MODIFIED:20260416T160429Z
UID:10010994-1848657600-1848661200@therhythmroomdancestudio.com
SUMMARY:Rhythm & Restore
DESCRIPTION:Ease into movement and out of stress with Rhythm & Restore—a feel-good\, low-impact class that blends light dance aerobics with calming stretch work. You’ll build gentle cardio and coordination through easy\, rhythmic movement\, then melt into restorative stretches that leave your body loose\, your mind clear\, and your energy lifted. \n  \nTo register\, click here!
URL:https://therhythmroomdancestudio.com/calendar/rhythm-restore/2028-07-31/
LOCATION:The Rhythm Room\, 2714 1/2 Greenville Ave\, Dallas\, TX\, 75206\, United States
CATEGORIES:Exercise & Stretch
ORGANIZER;CN="The Rhythm Room":MAILTO:dance@therhythmroom.net
END:VEVENT
BEGIN:VEVENT
DTSTART;TZID=America/Chicago:20280807T120000
DTEND;TZID=America/Chicago:20280807T130000
DTSTAMP:20260424T230348
CREATED:20260416T154722Z
LAST-MODIFIED:20260416T160429Z
UID:10010995-1849262400-1849266000@therhythmroomdancestudio.com
SUMMARY:Rhythm & Restore
DESCRIPTION:Ease into movement and out of stress with Rhythm & Restore—a feel-good\, low-impact class that blends light dance aerobics with calming stretch work. You’ll build gentle cardio and coordination through easy\, rhythmic movement\, then melt into restorative stretches that leave your body loose\, your mind clear\, and your energy lifted. \n  \nTo register\, click here!
URL:https://therhythmroomdancestudio.com/calendar/rhythm-restore/2028-08-07/
LOCATION:The Rhythm Room\, 2714 1/2 Greenville Ave\, Dallas\, TX\, 75206\, United States
CATEGORIES:Exercise & Stretch
ORGANIZER;CN="The Rhythm Room":MAILTO:dance@therhythmroom.net
END:VEVENT
BEGIN:VEVENT
DTSTART;TZID=America/Chicago:20280814T120000
DTEND;TZID=America/Chicago:20280814T130000
DTSTAMP:20260424T230348
CREATED:20260416T154722Z
LAST-MODIFIED:20260416T160429Z
UID:10010996-1849867200-1849870800@therhythmroomdancestudio.com
SUMMARY:Rhythm & Restore
DESCRIPTION:Ease into movement and out of stress with Rhythm & Restore—a feel-good\, low-impact class that blends light dance aerobics with calming stretch work. You’ll build gentle cardio and coordination through easy\, rhythmic movement\, then melt into restorative stretches that leave your body loose\, your mind clear\, and your energy lifted. \n  \nTo register\, click here!
URL:https://therhythmroomdancestudio.com/calendar/rhythm-restore/2028-08-14/
LOCATION:The Rhythm Room\, 2714 1/2 Greenville Ave\, Dallas\, TX\, 75206\, United States
CATEGORIES:Exercise & Stretch
ORGANIZER;CN="The Rhythm Room":MAILTO:dance@therhythmroom.net
END:VEVENT
BEGIN:VEVENT
DTSTART;TZID=America/Chicago:20280821T120000
DTEND;TZID=America/Chicago:20280821T130000
DTSTAMP:20260424T230348
CREATED:20260416T154722Z
LAST-MODIFIED:20260416T160429Z
UID:10010997-1850472000-1850475600@therhythmroomdancestudio.com
SUMMARY:Rhythm & Restore
DESCRIPTION:Ease into movement and out of stress with Rhythm & Restore—a feel-good\, low-impact class that blends light dance aerobics with calming stretch work. You’ll build gentle cardio and coordination through easy\, rhythmic movement\, then melt into restorative stretches that leave your body loose\, your mind clear\, and your energy lifted. \n  \nTo register\, click here!
URL:https://therhythmroomdancestudio.com/calendar/rhythm-restore/2028-08-21/
LOCATION:The Rhythm Room\, 2714 1/2 Greenville Ave\, Dallas\, TX\, 75206\, United States
CATEGORIES:Exercise & Stretch
ORGANIZER;CN="The Rhythm Room":MAILTO:dance@therhythmroom.net
END:VEVENT
BEGIN:VEVENT
DTSTART;TZID=America/Chicago:20280828T120000
DTEND;TZID=America/Chicago:20280828T130000
DTSTAMP:20260424T230348
CREATED:20260416T154722Z
LAST-MODIFIED:20260416T160429Z
UID:10010998-1851076800-1851080400@therhythmroomdancestudio.com
SUMMARY:Rhythm & Restore
DESCRIPTION:Ease into movement and out of stress with Rhythm & Restore—a feel-good\, low-impact class that blends light dance aerobics with calming stretch work. You’ll build gentle cardio and coordination through easy\, rhythmic movement\, then melt into restorative stretches that leave your body loose\, your mind clear\, and your energy lifted. \n  \nTo register\, click here!
URL:https://therhythmroomdancestudio.com/calendar/rhythm-restore/2028-08-28/
LOCATION:The Rhythm Room\, 2714 1/2 Greenville Ave\, Dallas\, TX\, 75206\, United States
CATEGORIES:Exercise & Stretch
ORGANIZER;CN="The Rhythm Room":MAILTO:dance@therhythmroom.net
END:VEVENT
BEGIN:VEVENT
DTSTART;TZID=America/Chicago:20280904T120000
DTEND;TZID=America/Chicago:20280904T130000
DTSTAMP:20260424T230348
CREATED:20260416T154722Z
LAST-MODIFIED:20260416T160429Z
UID:10010999-1851681600-1851685200@therhythmroomdancestudio.com
SUMMARY:Rhythm & Restore
DESCRIPTION:Ease into movement and out of stress with Rhythm & Restore—a feel-good\, low-impact class that blends light dance aerobics with calming stretch work. You’ll build gentle cardio and coordination through easy\, rhythmic movement\, then melt into restorative stretches that leave your body loose\, your mind clear\, and your energy lifted. \n  \nTo register\, click here!
URL:https://therhythmroomdancestudio.com/calendar/rhythm-restore/2028-09-04/
LOCATION:The Rhythm Room\, 2714 1/2 Greenville Ave\, Dallas\, TX\, 75206\, United States
CATEGORIES:Exercise & Stretch
ORGANIZER;CN="The Rhythm Room":MAILTO:dance@therhythmroom.net
END:VEVENT
BEGIN:VEVENT
DTSTART;TZID=America/Chicago:20280911T120000
DTEND;TZID=America/Chicago:20280911T130000
DTSTAMP:20260424T230348
CREATED:20260416T154722Z
LAST-MODIFIED:20260416T160429Z
UID:10011000-1852286400-1852290000@therhythmroomdancestudio.com
SUMMARY:Rhythm & Restore
DESCRIPTION:Ease into movement and out of stress with Rhythm & Restore—a feel-good\, low-impact class that blends light dance aerobics with calming stretch work. You’ll build gentle cardio and coordination through easy\, rhythmic movement\, then melt into restorative stretches that leave your body loose\, your mind clear\, and your energy lifted. \n  \nTo register\, click here!
URL:https://therhythmroomdancestudio.com/calendar/rhythm-restore/2028-09-11/
LOCATION:The Rhythm Room\, 2714 1/2 Greenville Ave\, Dallas\, TX\, 75206\, United States
CATEGORIES:Exercise & Stretch
ORGANIZER;CN="The Rhythm Room":MAILTO:dance@therhythmroom.net
END:VEVENT
BEGIN:VEVENT
DTSTART;TZID=America/Chicago:20280918T120000
DTEND;TZID=America/Chicago:20280918T130000
DTSTAMP:20260424T230348
CREATED:20260416T154722Z
LAST-MODIFIED:20260416T160429Z
UID:10011001-1852891200-1852894800@therhythmroomdancestudio.com
SUMMARY:Rhythm & Restore
DESCRIPTION:Ease into movement and out of stress with Rhythm & Restore—a feel-good\, low-impact class that blends light dance aerobics with calming stretch work. You’ll build gentle cardio and coordination through easy\, rhythmic movement\, then melt into restorative stretches that leave your body loose\, your mind clear\, and your energy lifted. \n  \nTo register\, click here!
URL:https://therhythmroomdancestudio.com/calendar/rhythm-restore/2028-09-18/
LOCATION:The Rhythm Room\, 2714 1/2 Greenville Ave\, Dallas\, TX\, 75206\, United States
CATEGORIES:Exercise & Stretch
ORGANIZER;CN="The Rhythm Room":MAILTO:dance@therhythmroom.net
END:VEVENT
BEGIN:VEVENT
DTSTART;TZID=America/Chicago:20280925T120000
DTEND;TZID=America/Chicago:20280925T130000
DTSTAMP:20260424T230348
CREATED:20260416T154722Z
LAST-MODIFIED:20260416T160429Z
UID:10011002-1853496000-1853499600@therhythmroomdancestudio.com
SUMMARY:Rhythm & Restore
DESCRIPTION:Ease into movement and out of stress with Rhythm & Restore—a feel-good\, low-impact class that blends light dance aerobics with calming stretch work. You’ll build gentle cardio and coordination through easy\, rhythmic movement\, then melt into restorative stretches that leave your body loose\, your mind clear\, and your energy lifted. \n  \nTo register\, click here!
URL:https://therhythmroomdancestudio.com/calendar/rhythm-restore/2028-09-25/
LOCATION:The Rhythm Room\, 2714 1/2 Greenville Ave\, Dallas\, TX\, 75206\, United States
CATEGORIES:Exercise & Stretch
ORGANIZER;CN="The Rhythm Room":MAILTO:dance@therhythmroom.net
END:VEVENT
BEGIN:VEVENT
DTSTART;TZID=America/Chicago:20281002T120000
DTEND;TZID=America/Chicago:20281002T130000
DTSTAMP:20260424T230348
CREATED:20260416T154722Z
LAST-MODIFIED:20260416T160429Z
UID:10011003-1854100800-1854104400@therhythmroomdancestudio.com
SUMMARY:Rhythm & Restore
DESCRIPTION:Ease into movement and out of stress with Rhythm & Restore—a feel-good\, low-impact class that blends light dance aerobics with calming stretch work. You’ll build gentle cardio and coordination through easy\, rhythmic movement\, then melt into restorative stretches that leave your body loose\, your mind clear\, and your energy lifted. \n  \nTo register\, click here!
URL:https://therhythmroomdancestudio.com/calendar/rhythm-restore/2028-10-02/
LOCATION:The Rhythm Room\, 2714 1/2 Greenville Ave\, Dallas\, TX\, 75206\, United States
CATEGORIES:Exercise & Stretch
ORGANIZER;CN="The Rhythm Room":MAILTO:dance@therhythmroom.net
END:VEVENT
BEGIN:VEVENT
DTSTART;TZID=America/Chicago:20281009T120000
DTEND;TZID=America/Chicago:20281009T130000
DTSTAMP:20260424T230348
CREATED:20260416T154722Z
LAST-MODIFIED:20260416T160429Z
UID:10011004-1854705600-1854709200@therhythmroomdancestudio.com
SUMMARY:Rhythm & Restore
DESCRIPTION:Ease into movement and out of stress with Rhythm & Restore—a feel-good\, low-impact class that blends light dance aerobics with calming stretch work. You’ll build gentle cardio and coordination through easy\, rhythmic movement\, then melt into restorative stretches that leave your body loose\, your mind clear\, and your energy lifted. \n  \nTo register\, click here!
URL:https://therhythmroomdancestudio.com/calendar/rhythm-restore/2028-10-09/
LOCATION:The Rhythm Room\, 2714 1/2 Greenville Ave\, Dallas\, TX\, 75206\, United States
CATEGORIES:Exercise & Stretch
ORGANIZER;CN="The Rhythm Room":MAILTO:dance@therhythmroom.net
END:VEVENT
BEGIN:VEVENT
DTSTART;TZID=America/Chicago:20281016T120000
DTEND;TZID=America/Chicago:20281016T130000
DTSTAMP:20260424T230348
CREATED:20260416T154722Z
LAST-MODIFIED:20260416T160429Z
UID:10011005-1855310400-1855314000@therhythmroomdancestudio.com
SUMMARY:Rhythm & Restore
DESCRIPTION:Ease into movement and out of stress with Rhythm & Restore—a feel-good\, low-impact class that blends light dance aerobics with calming stretch work. You’ll build gentle cardio and coordination through easy\, rhythmic movement\, then melt into restorative stretches that leave your body loose\, your mind clear\, and your energy lifted. \n  \nTo register\, click here!
URL:https://therhythmroomdancestudio.com/calendar/rhythm-restore/2028-10-16/
LOCATION:The Rhythm Room\, 2714 1/2 Greenville Ave\, Dallas\, TX\, 75206\, United States
CATEGORIES:Exercise & Stretch
ORGANIZER;CN="The Rhythm Room":MAILTO:dance@therhythmroom.net
END:VEVENT
BEGIN:VEVENT
DTSTART;TZID=America/Chicago:20281023T120000
DTEND;TZID=America/Chicago:20281023T130000
DTSTAMP:20260424T230348
CREATED:20260416T154722Z
LAST-MODIFIED:20260416T160429Z
UID:10011006-1855915200-1855918800@therhythmroomdancestudio.com
SUMMARY:Rhythm & Restore
DESCRIPTION:Ease into movement and out of stress with Rhythm & Restore—a feel-good\, low-impact class that blends light dance aerobics with calming stretch work. You’ll build gentle cardio and coordination through easy\, rhythmic movement\, then melt into restorative stretches that leave your body loose\, your mind clear\, and your energy lifted. \n  \nTo register\, click here!
URL:https://therhythmroomdancestudio.com/calendar/rhythm-restore/2028-10-23/
LOCATION:The Rhythm Room\, 2714 1/2 Greenville Ave\, Dallas\, TX\, 75206\, United States
CATEGORIES:Exercise & Stretch
ORGANIZER;CN="The Rhythm Room":MAILTO:dance@therhythmroom.net
END:VEVENT
BEGIN:VEVENT
DTSTART;TZID=America/Chicago:20281030T120000
DTEND;TZID=America/Chicago:20281030T130000
DTSTAMP:20260424T230348
CREATED:20260416T154722Z
LAST-MODIFIED:20260416T160429Z
UID:10011007-1856520000-1856523600@therhythmroomdancestudio.com
SUMMARY:Rhythm & Restore
DESCRIPTION:Ease into movement and out of stress with Rhythm & Restore—a feel-good\, low-impact class that blends light dance aerobics with calming stretch work. You’ll build gentle cardio and coordination through easy\, rhythmic movement\, then melt into restorative stretches that leave your body loose\, your mind clear\, and your energy lifted. \n  \nTo register\, click here!
URL:https://therhythmroomdancestudio.com/calendar/rhythm-restore/2028-10-30/
LOCATION:The Rhythm Room\, 2714 1/2 Greenville Ave\, Dallas\, TX\, 75206\, United States
CATEGORIES:Exercise & Stretch
ORGANIZER;CN="The Rhythm Room":MAILTO:dance@therhythmroom.net
END:VEVENT
BEGIN:VEVENT
DTSTART;TZID=America/Chicago:20281106T120000
DTEND;TZID=America/Chicago:20281106T130000
DTSTAMP:20260424T230348
CREATED:20260416T154722Z
LAST-MODIFIED:20260416T160429Z
UID:10011008-1857124800-1857128400@therhythmroomdancestudio.com
SUMMARY:Rhythm & Restore
DESCRIPTION:Ease into movement and out of stress with Rhythm & Restore—a feel-good\, low-impact class that blends light dance aerobics with calming stretch work. You’ll build gentle cardio and coordination through easy\, rhythmic movement\, then melt into restorative stretches that leave your body loose\, your mind clear\, and your energy lifted. \n  \nTo register\, click here!
URL:https://therhythmroomdancestudio.com/calendar/rhythm-restore/2028-11-06/
LOCATION:The Rhythm Room\, 2714 1/2 Greenville Ave\, Dallas\, TX\, 75206\, United States
CATEGORIES:Exercise & Stretch
ORGANIZER;CN="The Rhythm Room":MAILTO:dance@therhythmroom.net
END:VEVENT
BEGIN:VEVENT
DTSTART;TZID=America/Chicago:20281113T120000
DTEND;TZID=America/Chicago:20281113T130000
DTSTAMP:20260424T230348
CREATED:20260416T154722Z
LAST-MODIFIED:20260416T160429Z
UID:10011009-1857729600-1857733200@therhythmroomdancestudio.com
SUMMARY:Rhythm & Restore
DESCRIPTION:Ease into movement and out of stress with Rhythm & Restore—a feel-good\, low-impact class that blends light dance aerobics with calming stretch work. You’ll build gentle cardio and coordination through easy\, rhythmic movement\, then melt into restorative stretches that leave your body loose\, your mind clear\, and your energy lifted. \n  \nTo register\, click here!
URL:https://therhythmroomdancestudio.com/calendar/rhythm-restore/2028-11-13/
LOCATION:The Rhythm Room\, 2714 1/2 Greenville Ave\, Dallas\, TX\, 75206\, United States
CATEGORIES:Exercise & Stretch
ORGANIZER;CN="The Rhythm Room":MAILTO:dance@therhythmroom.net
END:VEVENT
BEGIN:VEVENT
DTSTART;TZID=America/Chicago:20281120T120000
DTEND;TZID=America/Chicago:20281120T130000
DTSTAMP:20260424T230348
CREATED:20260416T154722Z
LAST-MODIFIED:20260416T160429Z
UID:10011010-1858334400-1858338000@therhythmroomdancestudio.com
SUMMARY:Rhythm & Restore
DESCRIPTION:Ease into movement and out of stress with Rhythm & Restore—a feel-good\, low-impact class that blends light dance aerobics with calming stretch work. You’ll build gentle cardio and coordination through easy\, rhythmic movement\, then melt into restorative stretches that leave your body loose\, your mind clear\, and your energy lifted. \n  \nTo register\, click here!
URL:https://therhythmroomdancestudio.com/calendar/rhythm-restore/2028-11-20/
LOCATION:The Rhythm Room\, 2714 1/2 Greenville Ave\, Dallas\, TX\, 75206\, United States
CATEGORIES:Exercise & Stretch
ORGANIZER;CN="The Rhythm Room":MAILTO:dance@therhythmroom.net
END:VEVENT
BEGIN:VEVENT
DTSTART;TZID=America/Chicago:20281127T120000
DTEND;TZID=America/Chicago:20281127T130000
DTSTAMP:20260424T230348
CREATED:20260416T154722Z
LAST-MODIFIED:20260416T160429Z
UID:10011011-1858939200-1858942800@therhythmroomdancestudio.com
SUMMARY:Rhythm & Restore
DESCRIPTION:Ease into movement and out of stress with Rhythm & Restore—a feel-good\, low-impact class that blends light dance aerobics with calming stretch work. You’ll build gentle cardio and coordination through easy\, rhythmic movement\, then melt into restorative stretches that leave your body loose\, your mind clear\, and your energy lifted. \n  \nTo register\, click here!
URL:https://therhythmroomdancestudio.com/calendar/rhythm-restore/2028-11-27/
LOCATION:The Rhythm Room\, 2714 1/2 Greenville Ave\, Dallas\, TX\, 75206\, United States
CATEGORIES:Exercise & Stretch
ORGANIZER;CN="The Rhythm Room":MAILTO:dance@therhythmroom.net
END:VEVENT
BEGIN:VEVENT
DTSTART;TZID=America/Chicago:20281204T120000
DTEND;TZID=America/Chicago:20281204T130000
DTSTAMP:20260424T230348
CREATED:20260416T154722Z
LAST-MODIFIED:20260416T160429Z
UID:10011012-1859544000-1859547600@therhythmroomdancestudio.com
SUMMARY:Rhythm & Restore
DESCRIPTION:Ease into movement and out of stress with Rhythm & Restore—a feel-good\, low-impact class that blends light dance aerobics with calming stretch work. You’ll build gentle cardio and coordination through easy\, rhythmic movement\, then melt into restorative stretches that leave your body loose\, your mind clear\, and your energy lifted. \n  \nTo register\, click here!
URL:https://therhythmroomdancestudio.com/calendar/rhythm-restore/2028-12-04/
LOCATION:The Rhythm Room\, 2714 1/2 Greenville Ave\, Dallas\, TX\, 75206\, United States
CATEGORIES:Exercise & Stretch
ORGANIZER;CN="The Rhythm Room":MAILTO:dance@therhythmroom.net
END:VEVENT
BEGIN:VEVENT
DTSTART;TZID=America/Chicago:20281211T120000
DTEND;TZID=America/Chicago:20281211T130000
DTSTAMP:20260424T230348
CREATED:20260416T154722Z
LAST-MODIFIED:20260416T160429Z
UID:10011013-1860148800-1860152400@therhythmroomdancestudio.com
SUMMARY:Rhythm & Restore
DESCRIPTION:Ease into movement and out of stress with Rhythm & Restore—a feel-good\, low-impact class that blends light dance aerobics with calming stretch work. You’ll build gentle cardio and coordination through easy\, rhythmic movement\, then melt into restorative stretches that leave your body loose\, your mind clear\, and your energy lifted. \n  \nTo register\, click here!
URL:https://therhythmroomdancestudio.com/calendar/rhythm-restore/2028-12-11/
LOCATION:The Rhythm Room\, 2714 1/2 Greenville Ave\, Dallas\, TX\, 75206\, United States
CATEGORIES:Exercise & Stretch
ORGANIZER;CN="The Rhythm Room":MAILTO:dance@therhythmroom.net
END:VEVENT
BEGIN:VEVENT
DTSTART;TZID=America/Chicago:20281218T120000
DTEND;TZID=America/Chicago:20281218T130000
DTSTAMP:20260424T230348
CREATED:20260416T154722Z
LAST-MODIFIED:20260416T160429Z
UID:10011014-1860753600-1860757200@therhythmroomdancestudio.com
SUMMARY:Rhythm & Restore
DESCRIPTION:Ease into movement and out of stress with Rhythm & Restore—a feel-good\, low-impact class that blends light dance aerobics with calming stretch work. You’ll build gentle cardio and coordination through easy\, rhythmic movement\, then melt into restorative stretches that leave your body loose\, your mind clear\, and your energy lifted. \n  \nTo register\, click here!
URL:https://therhythmroomdancestudio.com/calendar/rhythm-restore/2028-12-18/
LOCATION:The Rhythm Room\, 2714 1/2 Greenville Ave\, Dallas\, TX\, 75206\, United States
CATEGORIES:Exercise & Stretch
ORGANIZER;CN="The Rhythm Room":MAILTO:dance@therhythmroom.net
END:VEVENT
BEGIN:VEVENT
DTSTART;TZID=America/Chicago:20281225T120000
DTEND;TZID=America/Chicago:20281225T130000
DTSTAMP:20260424T230348
CREATED:20260416T154722Z
LAST-MODIFIED:20260416T160429Z
UID:10011015-1861358400-1861362000@therhythmroomdancestudio.com
SUMMARY:Rhythm & Restore
DESCRIPTION:Ease into movement and out of stress with Rhythm & Restore—a feel-good\, low-impact class that blends light dance aerobics with calming stretch work. You’ll build gentle cardio and coordination through easy\, rhythmic movement\, then melt into restorative stretches that leave your body loose\, your mind clear\, and your energy lifted. \n  \nTo register\, click here!
URL:https://therhythmroomdancestudio.com/calendar/rhythm-restore/2028-12-25/
LOCATION:The Rhythm Room\, 2714 1/2 Greenville Ave\, Dallas\, TX\, 75206\, United States
CATEGORIES:Exercise & Stretch
ORGANIZER;CN="The Rhythm Room":MAILTO:dance@therhythmroom.net
END:VEVENT
BEGIN:VEVENT
DTSTART;TZID=America/Chicago:20290101T120000
DTEND;TZID=America/Chicago:20290101T130000
DTSTAMP:20260424T230348
CREATED:20260416T154722Z
LAST-MODIFIED:20260416T160429Z
UID:10011016-1861963200-1861966800@therhythmroomdancestudio.com
SUMMARY:Rhythm & Restore
DESCRIPTION:Ease into movement and out of stress with Rhythm & Restore—a feel-good\, low-impact class that blends light dance aerobics with calming stretch work. You’ll build gentle cardio and coordination through easy\, rhythmic movement\, then melt into restorative stretches that leave your body loose\, your mind clear\, and your energy lifted. \n  \nTo register\, click here!
URL:https://therhythmroomdancestudio.com/calendar/rhythm-restore/2029-01-01/
LOCATION:The Rhythm Room\, 2714 1/2 Greenville Ave\, Dallas\, TX\, 75206\, United States
CATEGORIES:Exercise & Stretch
ORGANIZER;CN="The Rhythm Room":MAILTO:dance@therhythmroom.net
END:VEVENT
END:VCALENDAR