BEGIN:VCALENDAR
VERSION:2.0
PRODID:-//The Rhythm Room - ECPv6.15.18//NONSGML v1.0//EN
CALSCALE:GREGORIAN
METHOD:PUBLISH
X-ORIGINAL-URL:https://therhythmroomdancestudio.com
X-WR-CALDESC:Events for The Rhythm Room
REFRESH-INTERVAL;VALUE=DURATION:PT1H
X-Robots-Tag:noindex
X-PUBLISHED-TTL:PT1H
BEGIN:VTIMEZONE
TZID:America/Chicago
BEGIN:DAYLIGHT
TZOFFSETFROM:-0600
TZOFFSETTO:-0500
TZNAME:CDT
DTSTART:20210314T080000
END:DAYLIGHT
BEGIN:STANDARD
TZOFFSETFROM:-0500
TZOFFSETTO:-0600
TZNAME:CST
DTSTART:20211107T070000
END:STANDARD
BEGIN:DAYLIGHT
TZOFFSETFROM:-0600
TZOFFSETTO:-0500
TZNAME:CDT
DTSTART:20220313T080000
END:DAYLIGHT
BEGIN:STANDARD
TZOFFSETFROM:-0500
TZOFFSETTO:-0600
TZNAME:CST
DTSTART:20221106T070000
END:STANDARD
BEGIN:DAYLIGHT
TZOFFSETFROM:-0600
TZOFFSETTO:-0500
TZNAME:CDT
DTSTART:20230312T080000
END:DAYLIGHT
BEGIN:STANDARD
TZOFFSETFROM:-0500
TZOFFSETTO:-0600
TZNAME:CST
DTSTART:20231105T070000
END:STANDARD
BEGIN:DAYLIGHT
TZOFFSETFROM:-0600
TZOFFSETTO:-0500
TZNAME:CDT
DTSTART:20240310T080000
END:DAYLIGHT
BEGIN:STANDARD
TZOFFSETFROM:-0500
TZOFFSETTO:-0600
TZNAME:CST
DTSTART:20241103T070000
END:STANDARD
END:VTIMEZONE
BEGIN:VEVENT
DTSTART;TZID=America/Chicago:20230307T190000
DTEND;TZID=America/Chicago:20230307T200000
DTSTAMP:20260423T103700
CREATED:20221108T205847Z
LAST-MODIFIED:20230301T195007Z
UID:10003560-1678215600-1678219200@therhythmroomdancestudio.com
SUMMARY:Country Two Step Class
DESCRIPTION:Learn the basics of 2-Step and increase your vocabulary of moves in our new Country dance series designed for beginners. \nNo partner\, previous dance experience or special shoes required. Two left feet welcome! \nClasses run in four-week series and meet on consectutive Tuesday nights at 7 p.m. Classes are one hour long. \nThe cost is $85 per person for the entire 4-week series. \nThis class runs for a limited time from January thru April. \nTuesdays:\n7-8 p.m. Beginner
URL:https://therhythmroomdancestudio.com/calendar/country-two-step-class-2/2023-03-07/
LOCATION:The Rhythm Room\, 2714 1/2 Greenville Ave\, Dallas\, TX\, 75206\, United States
CATEGORIES:Country Dance Class
ATTACH;FMTTYPE=image/png:https://therhythmroomdancestudio.com/wp-content/learn-to-dance/2021/11/Country-Dance.png
ORGANIZER;CN="The Rhythm Room":MAILTO:dance@therhythmroom.net
END:VEVENT
BEGIN:VEVENT
DTSTART;TZID=America/Chicago:20230228T190000
DTEND;TZID=America/Chicago:20230228T200000
DTSTAMP:20260423T103700
CREATED:20221108T205847Z
LAST-MODIFIED:20230301T195007Z
UID:10003559-1677610800-1677614400@therhythmroomdancestudio.com
SUMMARY:Country Two Step Class
DESCRIPTION:Learn the basics of 2-Step and increase your vocabulary of moves in our new Country dance series designed for beginners. \nNo partner\, previous dance experience or special shoes required. Two left feet welcome! \nClasses run in four-week series and meet on consectutive Tuesday nights at 7 p.m. Classes are one hour long. \nThe cost is $85 per person for the entire 4-week series. \nThis class runs for a limited time from January thru April. \nTuesdays:\n7-8 p.m. Beginner
URL:https://therhythmroomdancestudio.com/calendar/country-two-step-class-2/2023-02-28/
LOCATION:The Rhythm Room\, 2714 1/2 Greenville Ave\, Dallas\, TX\, 75206\, United States
CATEGORIES:Country Dance Class
ATTACH;FMTTYPE=image/png:https://therhythmroomdancestudio.com/wp-content/learn-to-dance/2021/11/Country-Dance.png
ORGANIZER;CN="The Rhythm Room":MAILTO:dance@therhythmroom.net
END:VEVENT
BEGIN:VEVENT
DTSTART;TZID=America/Chicago:20230221T190000
DTEND;TZID=America/Chicago:20230221T200000
DTSTAMP:20260423T103700
CREATED:20221108T205847Z
LAST-MODIFIED:20230301T195007Z
UID:10003558-1677006000-1677009600@therhythmroomdancestudio.com
SUMMARY:Country Two Step Class
DESCRIPTION:Learn the basics of 2-Step and increase your vocabulary of moves in our new Country dance series designed for beginners. \nNo partner\, previous dance experience or special shoes required. Two left feet welcome! \nClasses run in four-week series and meet on consectutive Tuesday nights at 7 p.m. Classes are one hour long. \nThe cost is $85 per person for the entire 4-week series. \nThis class runs for a limited time from January thru April. \nTuesdays:\n7-8 p.m. Beginner
URL:https://therhythmroomdancestudio.com/calendar/country-two-step-class-2/2023-02-21/
LOCATION:The Rhythm Room\, 2714 1/2 Greenville Ave\, Dallas\, TX\, 75206\, United States
CATEGORIES:Country Dance Class
ATTACH;FMTTYPE=image/png:https://therhythmroomdancestudio.com/wp-content/learn-to-dance/2021/11/Country-Dance.png
ORGANIZER;CN="The Rhythm Room":MAILTO:dance@therhythmroom.net
END:VEVENT
BEGIN:VEVENT
DTSTART;TZID=America/Chicago:20230214T190000
DTEND;TZID=America/Chicago:20230214T200000
DTSTAMP:20260423T103700
CREATED:20221108T205847Z
LAST-MODIFIED:20230301T195007Z
UID:10003557-1676401200-1676404800@therhythmroomdancestudio.com
SUMMARY:Country Two Step Class
DESCRIPTION:Learn the basics of 2-Step and increase your vocabulary of moves in our new Country dance series designed for beginners. \nNo partner\, previous dance experience or special shoes required. Two left feet welcome! \nClasses run in four-week series and meet on consectutive Tuesday nights at 7 p.m. Classes are one hour long. \nThe cost is $85 per person for the entire 4-week series. \nThis class runs for a limited time from January thru April. \nTuesdays:\n7-8 p.m. Beginner
URL:https://therhythmroomdancestudio.com/calendar/country-two-step-class-2/2023-02-14/
LOCATION:The Rhythm Room\, 2714 1/2 Greenville Ave\, Dallas\, TX\, 75206\, United States
CATEGORIES:Country Dance Class
ATTACH;FMTTYPE=image/png:https://therhythmroomdancestudio.com/wp-content/learn-to-dance/2021/11/Country-Dance.png
ORGANIZER;CN="The Rhythm Room":MAILTO:dance@therhythmroom.net
END:VEVENT
BEGIN:VEVENT
DTSTART;TZID=America/Chicago:20230207T190000
DTEND;TZID=America/Chicago:20230207T200000
DTSTAMP:20260423T103700
CREATED:20221108T205847Z
LAST-MODIFIED:20230301T195007Z
UID:10003556-1675796400-1675800000@therhythmroomdancestudio.com
SUMMARY:Country Two Step Class
DESCRIPTION:Learn the basics of 2-Step and increase your vocabulary of moves in our new Country dance series designed for beginners. \nNo partner\, previous dance experience or special shoes required. Two left feet welcome! \nClasses run in four-week series and meet on consectutive Tuesday nights at 7 p.m. Classes are one hour long. \nThe cost is $85 per person for the entire 4-week series. \nThis class runs for a limited time from January thru April. \nTuesdays:\n7-8 p.m. Beginner
URL:https://therhythmroomdancestudio.com/calendar/country-two-step-class-2/2023-02-07/
LOCATION:The Rhythm Room\, 2714 1/2 Greenville Ave\, Dallas\, TX\, 75206\, United States
CATEGORIES:Country Dance Class
ATTACH;FMTTYPE=image/png:https://therhythmroomdancestudio.com/wp-content/learn-to-dance/2021/11/Country-Dance.png
ORGANIZER;CN="The Rhythm Room":MAILTO:dance@therhythmroom.net
END:VEVENT
BEGIN:VEVENT
DTSTART;TZID=America/Chicago:20230131T190000
DTEND;TZID=America/Chicago:20230131T200000
DTSTAMP:20260423T103700
CREATED:20221108T205847Z
LAST-MODIFIED:20230301T195007Z
UID:10003555-1675191600-1675195200@therhythmroomdancestudio.com
SUMMARY:Country Two Step Class
DESCRIPTION:Learn the basics of 2-Step and increase your vocabulary of moves in our new Country dance series designed for beginners. \nNo partner\, previous dance experience or special shoes required. Two left feet welcome! \nClasses run in four-week series and meet on consectutive Tuesday nights at 7 p.m. Classes are one hour long. \nThe cost is $85 per person for the entire 4-week series. \nThis class runs for a limited time from January thru April. \nTuesdays:\n7-8 p.m. Beginner
URL:https://therhythmroomdancestudio.com/calendar/country-two-step-class-2/2023-01-31/
LOCATION:The Rhythm Room\, 2714 1/2 Greenville Ave\, Dallas\, TX\, 75206\, United States
CATEGORIES:Country Dance Class
ATTACH;FMTTYPE=image/png:https://therhythmroomdancestudio.com/wp-content/learn-to-dance/2021/11/Country-Dance.png
ORGANIZER;CN="The Rhythm Room":MAILTO:dance@therhythmroom.net
END:VEVENT
BEGIN:VEVENT
DTSTART;TZID=America/Chicago:20230124T190000
DTEND;TZID=America/Chicago:20230124T200000
DTSTAMP:20260423T103700
CREATED:20221108T205847Z
LAST-MODIFIED:20230301T195007Z
UID:10003554-1674586800-1674590400@therhythmroomdancestudio.com
SUMMARY:Country Two Step Class
DESCRIPTION:Learn the basics of 2-Step and increase your vocabulary of moves in our new Country dance series designed for beginners. \nNo partner\, previous dance experience or special shoes required. Two left feet welcome! \nClasses run in four-week series and meet on consectutive Tuesday nights at 7 p.m. Classes are one hour long. \nThe cost is $85 per person for the entire 4-week series. \nThis class runs for a limited time from January thru April. \nTuesdays:\n7-8 p.m. Beginner
URL:https://therhythmroomdancestudio.com/calendar/country-two-step-class-2/2023-01-24/
LOCATION:The Rhythm Room\, 2714 1/2 Greenville Ave\, Dallas\, TX\, 75206\, United States
CATEGORIES:Country Dance Class
ATTACH;FMTTYPE=image/png:https://therhythmroomdancestudio.com/wp-content/learn-to-dance/2021/11/Country-Dance.png
ORGANIZER;CN="The Rhythm Room":MAILTO:dance@therhythmroom.net
END:VEVENT
BEGIN:VEVENT
DTSTART;TZID=America/Chicago:20230117T190000
DTEND;TZID=America/Chicago:20230117T200000
DTSTAMP:20260423T103700
CREATED:20221108T205847Z
LAST-MODIFIED:20230301T195007Z
UID:10003553-1673982000-1673985600@therhythmroomdancestudio.com
SUMMARY:Country Two Step Class
DESCRIPTION:Learn the basics of 2-Step and increase your vocabulary of moves in our new Country dance series designed for beginners. \nNo partner\, previous dance experience or special shoes required. Two left feet welcome! \nClasses run in four-week series and meet on consectutive Tuesday nights at 7 p.m. Classes are one hour long. \nThe cost is $85 per person for the entire 4-week series. \nThis class runs for a limited time from January thru April. \nTuesdays:\n7-8 p.m. Beginner
URL:https://therhythmroomdancestudio.com/calendar/country-two-step-class-2/2023-01-17/
LOCATION:The Rhythm Room\, 2714 1/2 Greenville Ave\, Dallas\, TX\, 75206\, United States
CATEGORIES:Country Dance Class
ATTACH;FMTTYPE=image/png:https://therhythmroomdancestudio.com/wp-content/learn-to-dance/2021/11/Country-Dance.png
ORGANIZER;CN="The Rhythm Room":MAILTO:dance@therhythmroom.net
END:VEVENT
BEGIN:VEVENT
DTSTART;TZID=America/Chicago:20230110T190000
DTEND;TZID=America/Chicago:20230110T200000
DTSTAMP:20260423T103700
CREATED:20221108T205847Z
LAST-MODIFIED:20230301T195007Z
UID:10003552-1673377200-1673380800@therhythmroomdancestudio.com
SUMMARY:Country Two Step Class
DESCRIPTION:Learn the basics of 2-Step and increase your vocabulary of moves in our new Country dance series designed for beginners. \nNo partner\, previous dance experience or special shoes required. Two left feet welcome! \nClasses run in four-week series and meet on consectutive Tuesday nights at 7 p.m. Classes are one hour long. \nThe cost is $85 per person for the entire 4-week series. \nThis class runs for a limited time from January thru April. \nTuesdays:\n7-8 p.m. Beginner
URL:https://therhythmroomdancestudio.com/calendar/country-two-step-class-2/2023-01-10/
LOCATION:The Rhythm Room\, 2714 1/2 Greenville Ave\, Dallas\, TX\, 75206\, United States
CATEGORIES:Country Dance Class
ATTACH;FMTTYPE=image/png:https://therhythmroomdancestudio.com/wp-content/learn-to-dance/2021/11/Country-Dance.png
ORGANIZER;CN="The Rhythm Room":MAILTO:dance@therhythmroom.net
END:VEVENT
BEGIN:VEVENT
DTSTART;TZID=America/Chicago:20220419T200000
DTEND;TZID=America/Chicago:20220419T210000
DTSTAMP:20260423T103700
CREATED:20211125T200337Z
LAST-MODIFIED:20220330T203442Z
UID:10003281-1650398400-1650402000@therhythmroomdancestudio.com
SUMMARY:Country Two Step Class
DESCRIPTION:Learn the basics of 2-Step and increase your vocabulary of moves in our new Country dance series designed for beginners.
URL:https://therhythmroomdancestudio.com/calendar/country-two-step-class/2022-04-19/
LOCATION:The Rhythm Room\, 2714 1/2 Greenville Ave\, Dallas\, TX\, 75206\, United States
CATEGORIES:Country Dance Class
ATTACH;FMTTYPE=image/png:https://therhythmroomdancestudio.com/wp-content/learn-to-dance/2021/11/Country-Dance.png
ORGANIZER;CN="The Rhythm Room":MAILTO:dance@therhythmroom.net
END:VEVENT
BEGIN:VEVENT
DTSTART;TZID=America/Chicago:20220412T200000
DTEND;TZID=America/Chicago:20220412T210000
DTSTAMP:20260423T103700
CREATED:20211125T200337Z
LAST-MODIFIED:20220330T203442Z
UID:10003280-1649793600-1649797200@therhythmroomdancestudio.com
SUMMARY:Country Two Step Class
DESCRIPTION:Learn the basics of 2-Step and increase your vocabulary of moves in our new Country dance series designed for beginners.
URL:https://therhythmroomdancestudio.com/calendar/country-two-step-class/2022-04-12/
LOCATION:The Rhythm Room\, 2714 1/2 Greenville Ave\, Dallas\, TX\, 75206\, United States
CATEGORIES:Country Dance Class
ATTACH;FMTTYPE=image/png:https://therhythmroomdancestudio.com/wp-content/learn-to-dance/2021/11/Country-Dance.png
ORGANIZER;CN="The Rhythm Room":MAILTO:dance@therhythmroom.net
END:VEVENT
BEGIN:VEVENT
DTSTART;TZID=America/Chicago:20220405T200000
DTEND;TZID=America/Chicago:20220405T210000
DTSTAMP:20260423T103700
CREATED:20211125T200337Z
LAST-MODIFIED:20220330T203442Z
UID:10003279-1649188800-1649192400@therhythmroomdancestudio.com
SUMMARY:Country Two Step Class
DESCRIPTION:Learn the basics of 2-Step and increase your vocabulary of moves in our new Country dance series designed for beginners.
URL:https://therhythmroomdancestudio.com/calendar/country-two-step-class/2022-04-05/
LOCATION:The Rhythm Room\, 2714 1/2 Greenville Ave\, Dallas\, TX\, 75206\, United States
CATEGORIES:Country Dance Class
ATTACH;FMTTYPE=image/png:https://therhythmroomdancestudio.com/wp-content/learn-to-dance/2021/11/Country-Dance.png
ORGANIZER;CN="The Rhythm Room":MAILTO:dance@therhythmroom.net
END:VEVENT
BEGIN:VEVENT
DTSTART;TZID=America/Chicago:20220329T200000
DTEND;TZID=America/Chicago:20220329T210000
DTSTAMP:20260423T103700
CREATED:20211125T200337Z
LAST-MODIFIED:20220330T203442Z
UID:10003278-1648584000-1648587600@therhythmroomdancestudio.com
SUMMARY:Country Two Step Class
DESCRIPTION:Learn the basics of 2-Step and increase your vocabulary of moves in our new Country dance series designed for beginners.
URL:https://therhythmroomdancestudio.com/calendar/country-two-step-class/2022-03-29/
LOCATION:The Rhythm Room\, 2714 1/2 Greenville Ave\, Dallas\, TX\, 75206\, United States
CATEGORIES:Country Dance Class
ATTACH;FMTTYPE=image/png:https://therhythmroomdancestudio.com/wp-content/learn-to-dance/2021/11/Country-Dance.png
ORGANIZER;CN="The Rhythm Room":MAILTO:dance@therhythmroom.net
END:VEVENT
BEGIN:VEVENT
DTSTART;TZID=America/Chicago:20220322T200000
DTEND;TZID=America/Chicago:20220322T210000
DTSTAMP:20260423T103700
CREATED:20211125T200337Z
LAST-MODIFIED:20220330T203442Z
UID:10003277-1647979200-1647982800@therhythmroomdancestudio.com
SUMMARY:Country Two Step Class
DESCRIPTION:Learn the basics of 2-Step and increase your vocabulary of moves in our new Country dance series designed for beginners.
URL:https://therhythmroomdancestudio.com/calendar/country-two-step-class/2022-03-22/
LOCATION:The Rhythm Room\, 2714 1/2 Greenville Ave\, Dallas\, TX\, 75206\, United States
CATEGORIES:Country Dance Class
ATTACH;FMTTYPE=image/png:https://therhythmroomdancestudio.com/wp-content/learn-to-dance/2021/11/Country-Dance.png
ORGANIZER;CN="The Rhythm Room":MAILTO:dance@therhythmroom.net
END:VEVENT
BEGIN:VEVENT
DTSTART;TZID=America/Chicago:20220315T200000
DTEND;TZID=America/Chicago:20220315T210000
DTSTAMP:20260423T103700
CREATED:20211125T200337Z
LAST-MODIFIED:20220330T203442Z
UID:10003276-1647374400-1647378000@therhythmroomdancestudio.com
SUMMARY:Country Two Step Class
DESCRIPTION:Learn the basics of 2-Step and increase your vocabulary of moves in our new Country dance series designed for beginners.
URL:https://therhythmroomdancestudio.com/calendar/country-two-step-class/2022-03-15/
LOCATION:The Rhythm Room\, 2714 1/2 Greenville Ave\, Dallas\, TX\, 75206\, United States
CATEGORIES:Country Dance Class
ATTACH;FMTTYPE=image/png:https://therhythmroomdancestudio.com/wp-content/learn-to-dance/2021/11/Country-Dance.png
ORGANIZER;CN="The Rhythm Room":MAILTO:dance@therhythmroom.net
END:VEVENT
BEGIN:VEVENT
DTSTART;TZID=America/Chicago:20220308T200000
DTEND;TZID=America/Chicago:20220308T210000
DTSTAMP:20260423T103700
CREATED:20211125T200337Z
LAST-MODIFIED:20220330T203442Z
UID:10003275-1646769600-1646773200@therhythmroomdancestudio.com
SUMMARY:Country Two Step Class
DESCRIPTION:Learn the basics of 2-Step and increase your vocabulary of moves in our new Country dance series designed for beginners.
URL:https://therhythmroomdancestudio.com/calendar/country-two-step-class/2022-03-08/
LOCATION:The Rhythm Room\, 2714 1/2 Greenville Ave\, Dallas\, TX\, 75206\, United States
CATEGORIES:Country Dance Class
ATTACH;FMTTYPE=image/png:https://therhythmroomdancestudio.com/wp-content/learn-to-dance/2021/11/Country-Dance.png
ORGANIZER;CN="The Rhythm Room":MAILTO:dance@therhythmroom.net
END:VEVENT
BEGIN:VEVENT
DTSTART;TZID=America/Chicago:20220301T200000
DTEND;TZID=America/Chicago:20220301T210000
DTSTAMP:20260423T103700
CREATED:20211125T200337Z
LAST-MODIFIED:20220330T203442Z
UID:10003274-1646164800-1646168400@therhythmroomdancestudio.com
SUMMARY:Country Two Step Class
DESCRIPTION:Learn the basics of 2-Step and increase your vocabulary of moves in our new Country dance series designed for beginners.
URL:https://therhythmroomdancestudio.com/calendar/country-two-step-class/2022-03-01/
LOCATION:The Rhythm Room\, 2714 1/2 Greenville Ave\, Dallas\, TX\, 75206\, United States
CATEGORIES:Country Dance Class
ATTACH;FMTTYPE=image/png:https://therhythmroomdancestudio.com/wp-content/learn-to-dance/2021/11/Country-Dance.png
ORGANIZER;CN="The Rhythm Room":MAILTO:dance@therhythmroom.net
END:VEVENT
BEGIN:VEVENT
DTSTART;TZID=America/Chicago:20220222T200000
DTEND;TZID=America/Chicago:20220222T210000
DTSTAMP:20260423T103700
CREATED:20211125T200337Z
LAST-MODIFIED:20220330T203442Z
UID:10003273-1645560000-1645563600@therhythmroomdancestudio.com
SUMMARY:Country Two Step Class
DESCRIPTION:Learn the basics of 2-Step and increase your vocabulary of moves in our new Country dance series designed for beginners.
URL:https://therhythmroomdancestudio.com/calendar/country-two-step-class/2022-02-22/
LOCATION:The Rhythm Room\, 2714 1/2 Greenville Ave\, Dallas\, TX\, 75206\, United States
CATEGORIES:Country Dance Class
ATTACH;FMTTYPE=image/png:https://therhythmroomdancestudio.com/wp-content/learn-to-dance/2021/11/Country-Dance.png
ORGANIZER;CN="The Rhythm Room":MAILTO:dance@therhythmroom.net
END:VEVENT
BEGIN:VEVENT
DTSTART;TZID=America/Chicago:20220215T200000
DTEND;TZID=America/Chicago:20220215T210000
DTSTAMP:20260423T103700
CREATED:20211125T200337Z
LAST-MODIFIED:20220330T203442Z
UID:10003272-1644955200-1644958800@therhythmroomdancestudio.com
SUMMARY:Country Two Step Class
DESCRIPTION:Learn the basics of 2-Step and increase your vocabulary of moves in our new Country dance series designed for beginners.
URL:https://therhythmroomdancestudio.com/calendar/country-two-step-class/2022-02-15/
LOCATION:The Rhythm Room\, 2714 1/2 Greenville Ave\, Dallas\, TX\, 75206\, United States
CATEGORIES:Country Dance Class
ATTACH;FMTTYPE=image/png:https://therhythmroomdancestudio.com/wp-content/learn-to-dance/2021/11/Country-Dance.png
ORGANIZER;CN="The Rhythm Room":MAILTO:dance@therhythmroom.net
END:VEVENT
BEGIN:VEVENT
DTSTART;TZID=America/Chicago:20220208T200000
DTEND;TZID=America/Chicago:20220208T210000
DTSTAMP:20260423T103700
CREATED:20211125T200337Z
LAST-MODIFIED:20220330T203442Z
UID:10003271-1644350400-1644354000@therhythmroomdancestudio.com
SUMMARY:Country Two Step Class
DESCRIPTION:Learn the basics of 2-Step and increase your vocabulary of moves in our new Country dance series designed for beginners.
URL:https://therhythmroomdancestudio.com/calendar/country-two-step-class/2022-02-08/
LOCATION:The Rhythm Room\, 2714 1/2 Greenville Ave\, Dallas\, TX\, 75206\, United States
CATEGORIES:Country Dance Class
ATTACH;FMTTYPE=image/png:https://therhythmroomdancestudio.com/wp-content/learn-to-dance/2021/11/Country-Dance.png
ORGANIZER;CN="The Rhythm Room":MAILTO:dance@therhythmroom.net
END:VEVENT
BEGIN:VEVENT
DTSTART;TZID=America/Chicago:20220201T200000
DTEND;TZID=America/Chicago:20220201T210000
DTSTAMP:20260423T103700
CREATED:20211125T200337Z
LAST-MODIFIED:20220330T203442Z
UID:10003270-1643745600-1643749200@therhythmroomdancestudio.com
SUMMARY:Country Two Step Class
DESCRIPTION:Learn the basics of 2-Step and increase your vocabulary of moves in our new Country dance series designed for beginners.
URL:https://therhythmroomdancestudio.com/calendar/country-two-step-class/2022-02-01/
LOCATION:The Rhythm Room\, 2714 1/2 Greenville Ave\, Dallas\, TX\, 75206\, United States
CATEGORIES:Country Dance Class
ATTACH;FMTTYPE=image/png:https://therhythmroomdancestudio.com/wp-content/learn-to-dance/2021/11/Country-Dance.png
ORGANIZER;CN="The Rhythm Room":MAILTO:dance@therhythmroom.net
END:VEVENT
BEGIN:VEVENT
DTSTART;TZID=America/Chicago:20220125T200000
DTEND;TZID=America/Chicago:20220125T210000
DTSTAMP:20260423T103700
CREATED:20211125T200337Z
LAST-MODIFIED:20220330T203442Z
UID:10003269-1643140800-1643144400@therhythmroomdancestudio.com
SUMMARY:Country Two Step Class
DESCRIPTION:Learn the basics of 2-Step and increase your vocabulary of moves in our new Country dance series designed for beginners.
URL:https://therhythmroomdancestudio.com/calendar/country-two-step-class/2022-01-25/
LOCATION:The Rhythm Room\, 2714 1/2 Greenville Ave\, Dallas\, TX\, 75206\, United States
CATEGORIES:Country Dance Class
ATTACH;FMTTYPE=image/png:https://therhythmroomdancestudio.com/wp-content/learn-to-dance/2021/11/Country-Dance.png
ORGANIZER;CN="The Rhythm Room":MAILTO:dance@therhythmroom.net
END:VEVENT
BEGIN:VEVENT
DTSTART;TZID=America/Chicago:20220118T200000
DTEND;TZID=America/Chicago:20220118T210000
DTSTAMP:20260423T103700
CREATED:20211125T200337Z
LAST-MODIFIED:20220330T203442Z
UID:10003268-1642536000-1642539600@therhythmroomdancestudio.com
SUMMARY:Country Two Step Class
DESCRIPTION:Learn the basics of 2-Step and increase your vocabulary of moves in our new Country dance series designed for beginners.
URL:https://therhythmroomdancestudio.com/calendar/country-two-step-class/2022-01-18/
LOCATION:The Rhythm Room\, 2714 1/2 Greenville Ave\, Dallas\, TX\, 75206\, United States
CATEGORIES:Country Dance Class
ATTACH;FMTTYPE=image/png:https://therhythmroomdancestudio.com/wp-content/learn-to-dance/2021/11/Country-Dance.png
ORGANIZER;CN="The Rhythm Room":MAILTO:dance@therhythmroom.net
END:VEVENT
BEGIN:VEVENT
DTSTART;TZID=America/Chicago:20220111T200000
DTEND;TZID=America/Chicago:20220111T210000
DTSTAMP:20260423T103700
CREATED:20211125T200337Z
LAST-MODIFIED:20220330T203442Z
UID:10003267-1641931200-1641934800@therhythmroomdancestudio.com
SUMMARY:Country Two Step Class
DESCRIPTION:Learn the basics of 2-Step and increase your vocabulary of moves in our new Country dance series designed for beginners.
URL:https://therhythmroomdancestudio.com/calendar/country-two-step-class/2022-01-11/
LOCATION:The Rhythm Room\, 2714 1/2 Greenville Ave\, Dallas\, TX\, 75206\, United States
CATEGORIES:Country Dance Class
ATTACH;FMTTYPE=image/png:https://therhythmroomdancestudio.com/wp-content/learn-to-dance/2021/11/Country-Dance.png
ORGANIZER;CN="The Rhythm Room":MAILTO:dance@therhythmroom.net
END:VEVENT
BEGIN:VEVENT
DTSTART;TZID=America/Chicago:20220104T200000
DTEND;TZID=America/Chicago:20220104T210000
DTSTAMP:20260423T103700
CREATED:20211125T200337Z
LAST-MODIFIED:20220330T203442Z
UID:10003266-1641326400-1641330000@therhythmroomdancestudio.com
SUMMARY:Country Two Step Class
DESCRIPTION:Learn the basics of 2-Step and increase your vocabulary of moves in our new Country dance series designed for beginners.
URL:https://therhythmroomdancestudio.com/calendar/country-two-step-class/2022-01-04/
LOCATION:The Rhythm Room\, 2714 1/2 Greenville Ave\, Dallas\, TX\, 75206\, United States
CATEGORIES:Country Dance Class
ATTACH;FMTTYPE=image/png:https://therhythmroomdancestudio.com/wp-content/learn-to-dance/2021/11/Country-Dance.png
ORGANIZER;CN="The Rhythm Room":MAILTO:dance@therhythmroom.net
END:VEVENT
END:VCALENDAR